BEGIN:VCALENDAR
VERSION:2.0
PRODID:-//Suburban Swim League - ECPv6.15.20//NONSGML v1.0//EN
CALSCALE:GREGORIAN
METHOD:PUBLISH
X-WR-CALNAME:Suburban Swim League
X-ORIGINAL-URL:https://suburbanswim.club
X-WR-CALDESC:Events for Suburban Swim League
REFRESH-INTERVAL;VALUE=DURATION:PT1H
X-Robots-Tag:noindex
X-PUBLISHED-TTL:PT1H
BEGIN:VTIMEZONE
TZID:America/New_York
BEGIN:DAYLIGHT
TZOFFSETFROM:-0500
TZOFFSETTO:-0400
TZNAME:EDT
DTSTART:20230312T070000
END:DAYLIGHT
BEGIN:STANDARD
TZOFFSETFROM:-0400
TZOFFSETTO:-0500
TZNAME:EST
DTSTART:20231105T060000
END:STANDARD
BEGIN:DAYLIGHT
TZOFFSETFROM:-0500
TZOFFSETTO:-0400
TZNAME:EDT
DTSTART:20240310T070000
END:DAYLIGHT
BEGIN:STANDARD
TZOFFSETFROM:-0400
TZOFFSETTO:-0500
TZNAME:EST
DTSTART:20241103T060000
END:STANDARD
BEGIN:DAYLIGHT
TZOFFSETFROM:-0500
TZOFFSETTO:-0400
TZNAME:EDT
DTSTART:20250309T070000
END:DAYLIGHT
BEGIN:STANDARD
TZOFFSETFROM:-0400
TZOFFSETTO:-0500
TZNAME:EST
DTSTART:20251102T060000
END:STANDARD
BEGIN:DAYLIGHT
TZOFFSETFROM:-0500
TZOFFSETTO:-0400
TZNAME:EDT
DTSTART:20260308T070000
END:DAYLIGHT
BEGIN:STANDARD
TZOFFSETFROM:-0400
TZOFFSETTO:-0500
TZNAME:EST
DTSTART:20261101T060000
END:STANDARD
END:VTIMEZONE
BEGIN:VEVENT
DTSTART;TZID=America/New_York:20250612T183000
DTEND;TZID=America/New_York:20250612T190000
DTSTAMP:20260423T202856
CREATED:20250609T015639Z
LAST-MODIFIED:20250609T015642Z
UID:4281-1749753000-1749754800@suburbanswim.club
SUMMARY:Referee/Starter - New Officials Pre-Meeting
DESCRIPTION:This information session is for new officials that have not previously attended or served as a Referee/Starter. This information session is in addition to the scheduled Referee/Starter meeting which starts at 7:00 PM \n\n\n\n\n\n\n\n\nMeeting ID: 964 867 5309Passcode: 36844501 \n\n\n\nhttps://us06web.zoom.us/j/9648675309?pwd=CabIBLJWMNEbNvsg93ApyyblkHLCzL.1
URL:https://suburbanswim.club/meet/referee-starter-new-officials-pre-meeting-8/
CATEGORIES:Clinic
LOCATION:https://us06web.zoom.us/j/9648675309
END:VEVENT
BEGIN:VEVENT
DTSTART;TZID=America/New_York:20250611T190000
DTEND;TZID=America/New_York:20250611T210000
DTSTAMP:20260423T202856
CREATED:20250609T015618Z
LAST-MODIFIED:20250609T015621Z
UID:4280-1749668400-1749675600@suburbanswim.club
SUMMARY:New Stroke & Turn
DESCRIPTION:New SSL Stroke & Turn Officials. This class will be for new officials. \n\n\n\n\n\n\n\n\nMeeting ID: 964 867 5309Passcode: 36844501 \n\n\n\nhttps://us06web.zoom.us/j/9648675309?pwd=CabIBLJWMNEbNvsg93ApyyblkHLCzL.1
URL:https://suburbanswim.club/meet/new-stroke-turn-4/
CATEGORIES:Clinic
LOCATION:https://us06web.zoom.us/j/9648675309
END:VEVENT
BEGIN:VEVENT
DTSTART;TZID=America/New_York:20250608T190000
DTEND;TZID=America/New_York:20250608T203000
DTSTAMP:20260423T202856
CREATED:20250528T015947Z
LAST-MODIFIED:20250528T015950Z
UID:4179-1749409200-1749414600@suburbanswim.club
SUMMARY:SSL Regular Season Meeting - June
DESCRIPTION:June Meeting Date
URL:https://suburbanswim.club/meet/ssl-regular-season-meeting-june-2/
LOCATION:Drummond Hill Swim Club\, 79 Alton Road\, Newark\, 19711\, United States
CATEGORIES:Meeting,SSL Rep
END:VEVENT
BEGIN:VEVENT
DTSTART;TZID=America/New_York:20250606T190000
DTEND;TZID=America/New_York:20250606T210000
DTSTAMP:20260423T202856
CREATED:20250511T151013Z
LAST-MODIFIED:20250511T154123Z
UID:3936-1749236400-1749243600@suburbanswim.club
SUMMARY:Referee/Starter
DESCRIPTION:Referee/Starter which will qualify the official to function as the Referee\, Starter\, Chief Judge\, or S&T official at an SSL meet. To attend this class\, the official must have at least one year of SSL experience\, be a currently certified YMCA or USA Swimming official\, or have attended an SSL New S&T class that season. \n\n\n\n\n\n\n\n\nMeeting ID: 964 867 5309Passcode: 36844501 \n\n\n\nhttps://us06web.zoom.us/j/9648675309?pwd=CabIBLJWMNEbNvsg93ApyyblkHLCzL.1
URL:https://suburbanswim.club/meet/referee-starter-10/
CATEGORIES:Clinic
LOCATION:https://us06web.zoom.us/j/9648675309
END:VEVENT
BEGIN:VEVENT
DTSTART;TZID=America/New_York:20250606T183000
DTEND;TZID=America/New_York:20250606T190000
DTSTAMP:20260423T202856
CREATED:20250511T151013Z
LAST-MODIFIED:20250511T154034Z
UID:3935-1749234600-1749236400@suburbanswim.club
SUMMARY:Referee/Starter - New Officials Pre-Meeting
DESCRIPTION:This information session is for new officials that have not previously attended or served as a Referee/Starter. This information session is in addition to the scheduled Referee/Starter meeting which starts at 7:00 PM \n\n\n\n\n\n\n\n\nMeeting ID: 964 867 5309Passcode: 36844501 \n\n\n\nhttps://us06web.zoom.us/j/9648675309?pwd=CabIBLJWMNEbNvsg93ApyyblkHLCzL.1
URL:https://suburbanswim.club/meet/referee-starter-new-officials-pre-meeting-9/
CATEGORIES:Clinic
LOCATION:https://us06web.zoom.us/j/9648675309
END:VEVENT
BEGIN:VEVENT
DTSTART;TZID=America/New_York:20250605T190000
DTEND;TZID=America/New_York:20250605T210000
DTSTAMP:20260423T202856
CREATED:20250511T151009Z
LAST-MODIFIED:20250511T154204Z
UID:3927-1749150000-1749157200@suburbanswim.club
SUMMARY:New Stroke & Turn
DESCRIPTION:New SSL Stroke & Turn Officials. This class will be for new officials. \n\n\n\n\n\n\n\n\nMeeting ID: 964 867 5309Passcode: 36844501 \n\n\n\nhttps://us06web.zoom.us/j/9648675309?pwd=CabIBLJWMNEbNvsg93ApyyblkHLCzL.1
URL:https://suburbanswim.club/meet/new-stroke-turn-20/
CATEGORIES:Clinic
LOCATION:https://us06web.zoom.us/j/9648675309
END:VEVENT
BEGIN:VEVENT
DTSTART;TZID=America/New_York:20250604T190000
DTEND;TZID=America/New_York:20250604T210000
DTSTAMP:20260423T202856
CREATED:20250511T151010Z
LAST-MODIFIED:20250511T154300Z
UID:3930-1749063600-1749070800@suburbanswim.club
SUMMARY:Experienced Stroke & Turn
DESCRIPTION:Experienced SSL Stroke & Turn Official which will qualify the official to work as a S&T official or as a Chief Judge. This class will be for SSL S&T officials with at least three years’ experience as an SSL S&T official or be a currently certified YMCA or USA Swimming official. \n\n\n\n\n\n\n\n\nMeeting ID: 964 867 5309Passcode: 36844501 \n\n\n\nhttps://us06web.zoom.us/j/9648675309?pwd=CabIBLJWMNEbNvsg93ApyyblkHLCzL.1
URL:https://suburbanswim.club/meet/experienced-stroke-turn-12/
CATEGORIES:Clinic
LOCATION:https://us06web.zoom.us/j/9648675309
END:VEVENT
BEGIN:VEVENT
DTSTART;TZID=America/New_York:20250603T183000
DTEND;TZID=America/New_York:20250603T203000
DTSTAMP:20260423T202856
CREATED:20250511T151004Z
LAST-MODIFIED:20250511T154851Z
UID:3923-1748975400-1748982600@suburbanswim.club
SUMMARY:Scorer Clinic
DESCRIPTION:Scorer’s Clinic
URL:https://suburbanswim.club/meet/scorer-clinic-7/
LOCATION:Shue-Medill Middle School\, 1500 Capitol Trail\, Newark\, DE\, 19711\, United States
CATEGORIES:Clinic
END:VEVENT
BEGIN:VEVENT
DTSTART;TZID=America/New_York:20250602T190000
DTEND;TZID=America/New_York:20250602T210000
DTSTAMP:20260423T202856
CREATED:20250511T155146Z
LAST-MODIFIED:20250511T155148Z
UID:3982-1748890800-1748898000@suburbanswim.club
SUMMARY:New Stroke & Turn
DESCRIPTION:New SSL Stroke & Turn Officials. This class will be for new officials. \n\n\n\n\n\n\n\n\nMeeting ID: 964 867 5309Passcode: 36844501 \n\n\n\nhttps://us06web.zoom.us/j/9648675309?pwd=CabIBLJWMNEbNvsg93ApyyblkHLCzL.1
URL:https://suburbanswim.club/meet/new-stroke-turn-3/
CATEGORIES:Clinic
LOCATION:https://us06web.zoom.us/j/9648675309
END:VEVENT
BEGIN:VEVENT
DTSTART;TZID=America/New_York:20250601T190000
DTEND;TZID=America/New_York:20250601T210000
DTSTAMP:20260423T202856
CREATED:20250511T155351Z
LAST-MODIFIED:20250511T155353Z
UID:3988-1748804400-1748811600@suburbanswim.club
SUMMARY:Experienced Stroke & Turn
DESCRIPTION:Experienced SSL Stroke & Turn Official which will qualify the official to work as a S&T official or as a Chief Judge. This class will be for SSL S&T officials with at least three years’ experience as an SSL S&T official or be a currently certified YMCA or USA Swimming official. \n\n\n\n\n\n\n\n\nMeeting ID: 964 867 5309Passcode: 36844501 \n\n\n\nhttps://us06web.zoom.us/j/9648675309?pwd=CabIBLJWMNEbNvsg93ApyyblkHLCzL.1
URL:https://suburbanswim.club/meet/experienced-stroke-turn-5/
CATEGORIES:Clinic
LOCATION:https://us06web.zoom.us/j/9648675309
END:VEVENT
BEGIN:VEVENT
DTSTART;TZID=America/New_York:20250601T120000
DTEND;TZID=America/New_York:20250601T133000
DTSTAMP:20260423T202856
CREATED:20250528T015437Z
LAST-MODIFIED:20250528T015440Z
UID:4177-1748779200-1748784600@suburbanswim.club
SUMMARY:SSL Coaches Meeting – MANDATORY
DESCRIPTION:LIVE | IN-PERSON  \n\n\n\nMandatory meeting for all SSL Coaches. Should be attended by at least the team’s Head Coach(es). Assistant Coach(es) are optional attendees.
URL:https://suburbanswim.club/meet/ssl-coaches-meeting-mandatory-3/
LOCATION:Nottingham Swim Club\, 200 Radcliffe Dr\, Newark\, DE\, 19711\, United States
CATEGORIES:Meeting
END:VEVENT
BEGIN:VEVENT
DTSTART;TZID=America/New_York:20250528T190000
DTEND;TZID=America/New_York:20250528T210000
DTSTAMP:20260423T202856
CREATED:20250511T155556Z
LAST-MODIFIED:20250511T155558Z
UID:3993-1748458800-1748466000@suburbanswim.club
SUMMARY:Referee/Starter
DESCRIPTION:Referee/Starter which will qualify the official to function as the Referee\, Starter\, Chief Judge\, or S&T official at an SSL meet. To attend this class\, the official must have at least one year of SSL experience\, be a currently certified YMCA or USA Swimming official\, or have attended an SSL New S&T class that season. \n\n\n\n\n\n\n\n\nMeeting ID: 964 867 5309Passcode: 36844501 \n\n\n\nhttps://us06web.zoom.us/j/9648675309?pwd=CabIBLJWMNEbNvsg93ApyyblkHLCzL.1
URL:https://suburbanswim.club/meet/referee-starter-3/
CATEGORIES:Clinic
LOCATION:https://us06web.zoom.us/j/9648675309
END:VEVENT
BEGIN:VEVENT
DTSTART;TZID=America/New_York:20250528T183000
DTEND;TZID=America/New_York:20250528T190000
DTSTAMP:20260423T202856
CREATED:20250511T155547Z
LAST-MODIFIED:20250511T155550Z
UID:3992-1748457000-1748458800@suburbanswim.club
SUMMARY:Referee/Starter - New Officials Pre-Meeting
DESCRIPTION:This information session is for new officials that have not previously attended or served as a Referee/Starter. This information session is in addition to the scheduled Referee/Starter meeting which starts at 7:00 PM \n\n\n\n\n\n\n\n\nMeeting ID: 964 867 5309Passcode: 36844501 \n\n\n\nhttps://us06web.zoom.us/j/9648675309?pwd=CabIBLJWMNEbNvsg93ApyyblkHLCzL.1
URL:https://suburbanswim.club/meet/referee-starter-new-officials-pre-meeting/
CATEGORIES:Clinic
LOCATION:https://us06web.zoom.us/j/9648675309
END:VEVENT
BEGIN:VEVENT
DTSTART;TZID=America/New_York:20250527T190000
DTEND;TZID=America/New_York:20250527T210000
DTSTAMP:20260423T202856
CREATED:20250511T155133Z
LAST-MODIFIED:20250511T155136Z
UID:3983-1748372400-1748379600@suburbanswim.club
SUMMARY:New Stroke & Turn
DESCRIPTION:New SSL Stroke & Turn Officials. This class will be for new officials. \n\n\n\n\n\n\n\n\nMeeting ID: 964 867 5309Passcode: 36844501 \n\n\n\nhttps://us06web.zoom.us/j/9648675309?pwd=CabIBLJWMNEbNvsg93ApyyblkHLCzL.1
URL:https://suburbanswim.club/meet/new-stroke-turn-2/
CATEGORIES:Clinic
LOCATION:https://us06web.zoom.us/j/9648675309
END:VEVENT
BEGIN:VEVENT
DTSTART;TZID=America/New_York:20250522T190000
DTEND;TZID=America/New_York:20250522T210000
DTSTAMP:20260423T202856
CREATED:20250511T151003Z
LAST-MODIFIED:20250511T154841Z
UID:3922-1747940400-1747947600@suburbanswim.club
SUMMARY:Scorer Clinic
DESCRIPTION:Scorer’s Clinic \n\n\n\n\n\n\n\n\nMeeting ID: 964 867 5309Passcode: 36844501 \n\n\n\nhttps://us06web.zoom.us/j/9648675309?pwd=CabIBLJWMNEbNvsg93ApyyblkHLCzL.1
URL:https://suburbanswim.club/meet/scorer-clinic-6/
CATEGORIES:Clinic
LOCATION:https://us06web.zoom.us/j/9648675309
END:VEVENT
BEGIN:VEVENT
DTSTART;TZID=America/New_York:20250521T190000
DTEND;TZID=America/New_York:20250521T210000
DTSTAMP:20260423T202856
CREATED:20250511T155343Z
LAST-MODIFIED:20250511T155346Z
UID:3989-1747854000-1747861200@suburbanswim.club
SUMMARY:Experienced Stroke & Turn
DESCRIPTION:Experienced SSL Stroke & Turn Official which will qualify the official to work as a S&T official or as a Chief Judge. This class will be for SSL S&T officials with at least three years’ experience as an SSL S&T official or be a currently certified YMCA or USA Swimming official. \n\n\n\n\n\n\n\n\nMeeting ID: 964 867 5309Passcode: 36844501 \n\n\n\nhttps://us06web.zoom.us/j/9648675309?pwd=CabIBLJWMNEbNvsg93ApyyblkHLCzL.1
URL:https://suburbanswim.club/meet/experienced-stroke-turn-4/
CATEGORIES:Clinic
LOCATION:https://us06web.zoom.us/j/9648675309
END:VEVENT
BEGIN:VEVENT
DTSTART;TZID=America/New_York:20250520T190000
DTEND;TZID=America/New_York:20250520T210000
DTSTAMP:20260423T202856
CREATED:20250511T155612Z
LAST-MODIFIED:20250511T155614Z
UID:3995-1747767600-1747774800@suburbanswim.club
SUMMARY:Referee/Starter
DESCRIPTION:Referee/Starter which will qualify the official to function as the Referee\, Starter\, Chief Judge\, or S&T official at an SSL meet. To attend this class\, the official must have at least one year of SSL experience\, be a currently certified YMCA or USA Swimming official\, or have attended an SSL New S&T class that season. \n\n\n\n\n\n\n\n\nMeeting ID: 964 867 5309Passcode: 36844501 \n\n\n\nhttps://us06web.zoom.us/j/9648675309?pwd=CabIBLJWMNEbNvsg93ApyyblkHLCzL.1
URL:https://suburbanswim.club/meet/referee-starter-4/
CATEGORIES:Clinic
LOCATION:https://us06web.zoom.us/j/9648675309
END:VEVENT
BEGIN:VEVENT
DTSTART;TZID=America/New_York:20250520T183000
DTEND;TZID=America/New_York:20250520T190000
DTSTAMP:20260423T202856
CREATED:20250511T155606Z
LAST-MODIFIED:20250511T155608Z
UID:3994-1747765800-1747767600@suburbanswim.club
SUMMARY:Referee/Starter - New Officials Pre-Meeting
DESCRIPTION:This information session is for new officials that have not previously attended or served as a Referee/Starter. This information session is in addition to the scheduled Referee/Starter meeting which starts at 7:00 PM \n\n\n\n\n\n\n\n\nMeeting ID: 964 867 5309Passcode: 36844501 \n\n\n\nhttps://us06web.zoom.us/j/9648675309?pwd=CabIBLJWMNEbNvsg93ApyyblkHLCzL.1
URL:https://suburbanswim.club/meet/referee-starter-new-officials-pre-meeting-7/
CATEGORIES:Clinic
LOCATION:https://us06web.zoom.us/j/9648675309
END:VEVENT
BEGIN:VEVENT
DTSTART;TZID=America/New_York:20250519T190000
DTEND;TZID=America/New_York:20250519T210000
DTSTAMP:20260423T202856
CREATED:20250511T155126Z
LAST-MODIFIED:20250511T155129Z
UID:3984-1747681200-1747688400@suburbanswim.club
SUMMARY:New Stroke & Turn
DESCRIPTION:New SSL Stroke & Turn Officials. This class will be for new officials. \n\n\n\n\n\n\n\n\nMeeting ID: 964 867 5309Passcode: 36844501 \n\n\n\nhttps://us06web.zoom.us/j/9648675309?pwd=CabIBLJWMNEbNvsg93ApyyblkHLCzL.1
URL:https://suburbanswim.club/meet/new-stroke-turn/
CATEGORIES:Clinic
LOCATION:https://us06web.zoom.us/j/9648675309
END:VEVENT
BEGIN:VEVENT
DTSTART;TZID=America/New_York:20250223T190000
DTEND;TZID=America/New_York:20250223T203000
DTSTAMP:20260423T202856
CREATED:20250220T162319Z
LAST-MODIFIED:20250220T162401Z
UID:3680-1740337200-1740342600@suburbanswim.club
SUMMARY:SSL Regular Season Meeting - February
DESCRIPTION:
URL:https://suburbanswim.club/meet/ssl-regular-season-meeting-february/
LOCATION:Delaware Regional Dream Center\, 310 Ruthar Dr. Unit 10\, Newark\, DE\, 19711\, United States
CATEGORIES:Meeting,SSL Rep
END:VEVENT
BEGIN:VEVENT
DTSTART;TZID=America/New_York:20240720T084500
DTEND;TZID=America/New_York:20240720T140000
DTSTAMP:20260423T202856
CREATED:20240509T031145Z
LAST-MODIFIED:20240520T023114Z
UID:3045-1721465100-1721484000@suburbanswim.club
SUMMARY:SSL Championship Finals
DESCRIPTION:SSL Championship Finals. First warm-up at 7:30 am\, Meet Starts at 8:45 am
URL:https://suburbanswim.club/meet/ssl-championship-finals-5/
LOCATION:Western Family YMCA\, 2600 Capitol Trail\, Newark\, DE\, 19711\, United States
CATEGORIES:Championship
END:VEVENT
BEGIN:VEVENT
DTSTART;TZID=America/New_York:20240716T173000
DTEND;TZID=America/New_York:20240716T210000
DTSTAMP:20260423T202856
CREATED:20240520T023114Z
LAST-MODIFIED:20240520T023114Z
UID:3444-1721151000-1721163600@suburbanswim.club
SUMMARY:Time Trials - 8 & Under
DESCRIPTION:Time Trials – 8 & Under. First warm-up at 4:15 pm\, Meet Starts at 5:30 pm
URL:https://suburbanswim.club/meet/time-trials-8-under-4/
LOCATION:Nottingham Swim Club\, 200 Radcliffe Dr\, Newark\, DE\, 19711\, United States
CATEGORIES:Time Trial
END:VEVENT
BEGIN:VEVENT
DTSTART;TZID=America/New_York:20240715T163000
DTEND;TZID=America/New_York:20240715T210000
DTSTAMP:20260423T202856
CREATED:20240520T023114Z
LAST-MODIFIED:20240520T023114Z
UID:3443-1721061000-1721077200@suburbanswim.club
SUMMARY:Time Trials - 13 & Over
DESCRIPTION:Time Trials – 13 & Older. First warm-up at 3:15 pm\, Meet Starts at 4:30 pm
URL:https://suburbanswim.club/meet/time-trials-13-over-3/
LOCATION:Oakwood Valley Club\, 4909 Kirkwood Hwy\, Wilmington\, 19808\, United States
CATEGORIES:Time Trial
END:VEVENT
BEGIN:VEVENT
DTSTART;TZID=America/New_York:20240714T154500
DTEND;TZID=America/New_York:20240714T193000
DTSTAMP:20260423T202856
CREATED:20240520T023113Z
LAST-MODIFIED:20240520T023113Z
UID:3442-1720971900-1720985400@suburbanswim.club
SUMMARY:Time Trials - 9-12 Year Old
DESCRIPTION:Time Trials – 9-12 Year Olds. First warm-up at 2:15 pm\, Meet Starts at 3:45 pm
URL:https://suburbanswim.club/meet/time-trials-9-12-year-old/
LOCATION:Penn Acres Swim Club\, 30 Fithian Dr\, Wilmington Manor\, 19720\, United States
CATEGORIES:Time Trial
END:VEVENT
BEGIN:VEVENT
DTSTART;TZID=America/New_York:20240713T090000
DTEND;TZID=America/New_York:20240713T120000
DTSTAMP:20260423T202856
CREATED:20240509T031603Z
LAST-MODIFIED:20240510T043243Z
UID:3105-1720861200-1720872000@suburbanswim.club
SUMMARY:Oakwood Valley-Arundel
DESCRIPTION:Blue Division Dual Meet: Meet 8
URL:https://suburbanswim.club/meet/oakwood-valley-arundel/
LOCATION:Oakwood Valley Club\, 4909 Kirkwood Hwy\, Wilmington\, 19808\, United States
CATEGORIES:Dual Meet
END:VEVENT
BEGIN:VEVENT
DTSTART;TZID=America/New_York:20240713T090000
DTEND;TZID=America/New_York:20240713T120000
DTSTAMP:20260423T202856
CREATED:20240509T031603Z
LAST-MODIFIED:20240510T043243Z
UID:3103-1720861200-1720872000@suburbanswim.club
SUMMARY:Persimmon Creek-Crestmoor
DESCRIPTION:Blue Division Dual Meet: Meet 8
URL:https://suburbanswim.club/meet/persimmon-creek-crestmoor/
LOCATION:Persimmon Creek Swim Club\, 428 Arbour Dr\, Newark\, 19713\, United States
CATEGORIES:Dual Meet
END:VEVENT
BEGIN:VEVENT
DTSTART;TZID=America/New_York:20240713T090000
DTEND;TZID=America/New_York:20240713T120000
DTSTAMP:20260423T202856
CREATED:20240509T031603Z
LAST-MODIFIED:20240510T043243Z
UID:3104-1720861200-1720872000@suburbanswim.club
SUMMARY:Maple Valley-Sherwood Park
DESCRIPTION:Blue Division Dual Meet: Meet 8
URL:https://suburbanswim.club/meet/maple-valley-sherwood-park/
LOCATION:Maple Valley Swim Club\, Old Possum Park Road\, Newark\, 19711\, United States
CATEGORIES:Dual Meet
END:VEVENT
BEGIN:VEVENT
DTSTART;TZID=America/New_York:20240713T090000
DTEND;TZID=America/New_York:20240713T120000
DTSTAMP:20260423T202856
CREATED:20240509T031602Z
LAST-MODIFIED:20240622T174600Z
UID:3101-1720861200-1720872000@suburbanswim.club
SUMMARY:Westminster-Yorklyn
DESCRIPTION:Red Division Dual Meet: Meet 8
URL:https://suburbanswim.club/meet/westminster-drummond-hill/
LOCATION:Westminster Swim Club\, 3200 Heritage Dr\, Wilmington\, 19808\, United States
CATEGORIES:Dual Meet
END:VEVENT
BEGIN:VEVENT
DTSTART;TZID=America/New_York:20240713T090000
DTEND;TZID=America/New_York:20240713T120000
DTSTAMP:20260423T202856
CREATED:20240509T031602Z
LAST-MODIFIED:20240510T043243Z
UID:3102-1720861200-1720872000@suburbanswim.club
SUMMARY:Skyline-Fairfield
DESCRIPTION:Blue Division Dual Meet: Meet 8
URL:https://suburbanswim.club/meet/skyline-fairfield/
LOCATION:Skyline Swim Club\, 2901 Skyline Dr\, Wilmington\, DE\, 19808\, United States
CATEGORIES:Dual Meet
END:VEVENT
BEGIN:VEVENT
DTSTART;TZID=America/New_York:20240713T090000
DTEND;TZID=America/New_York:20240713T120000
DTSTAMP:20260423T202856
CREATED:20240509T031547Z
LAST-MODIFIED:20240622T174549Z
UID:3100-1720861200-1720872000@suburbanswim.club
SUMMARY:North Star-Drummond Hill
DESCRIPTION:Red Division Dual Meet: Meet 8
URL:https://suburbanswim.club/meet/north-star-yorklyn-2/
LOCATION:North Star Swim Club\, 100 Saturn Dr\, Newark\, DE\, 19711\, United States
CATEGORIES:Dual Meet
END:VEVENT
END:VCALENDAR