BEGIN:VCALENDAR
VERSION:2.0
PRODID:-//Suburban Swim League - ECPv6.15.20//NONSGML v1.0//EN
CALSCALE:GREGORIAN
METHOD:PUBLISH
X-ORIGINAL-URL:https://suburbanswim.club
X-WR-CALDESC:Events for Suburban Swim League
REFRESH-INTERVAL;VALUE=DURATION:PT1H
X-Robots-Tag:noindex
X-PUBLISHED-TTL:PT1H
BEGIN:VTIMEZONE
TZID:America/New_York
BEGIN:DAYLIGHT
TZOFFSETFROM:-0500
TZOFFSETTO:-0400
TZNAME:EDT
DTSTART:20220313T070000
END:DAYLIGHT
BEGIN:STANDARD
TZOFFSETFROM:-0400
TZOFFSETTO:-0500
TZNAME:EST
DTSTART:20221106T060000
END:STANDARD
BEGIN:DAYLIGHT
TZOFFSETFROM:-0500
TZOFFSETTO:-0400
TZNAME:EDT
DTSTART:20230312T070000
END:DAYLIGHT
BEGIN:STANDARD
TZOFFSETFROM:-0400
TZOFFSETTO:-0500
TZNAME:EST
DTSTART:20231105T060000
END:STANDARD
BEGIN:DAYLIGHT
TZOFFSETFROM:-0500
TZOFFSETTO:-0400
TZNAME:EDT
DTSTART:20240310T070000
END:DAYLIGHT
BEGIN:STANDARD
TZOFFSETFROM:-0400
TZOFFSETTO:-0500
TZNAME:EST
DTSTART:20241103T060000
END:STANDARD
BEGIN:DAYLIGHT
TZOFFSETFROM:-0500
TZOFFSETTO:-0400
TZNAME:EDT
DTSTART:20250309T070000
END:DAYLIGHT
BEGIN:STANDARD
TZOFFSETFROM:-0400
TZOFFSETTO:-0500
TZNAME:EST
DTSTART:20251102T060000
END:STANDARD
END:VTIMEZONE
BEGIN:VEVENT
DTSTART;TZID=America/New_York:20240615T090000
DTEND;TZID=America/New_York:20240615T120000
DTSTAMP:20260424T065802
CREATED:20240509T031205Z
LAST-MODIFIED:20240510T042931Z
UID:3051-1718442000-1718452800@suburbanswim.club
SUMMARY:Persimmon Creek-Maple Valley
DESCRIPTION:Blue Division Dual Meet: Meet 1
URL:https://suburbanswim.club/meet/persimmon-creek-maple-valley/
LOCATION:Persimmon Creek Swim Club\, 428 Arbour Dr\, Newark\, 19713\, United States
CATEGORIES:Dual Meet
END:VEVENT
BEGIN:VEVENT
DTSTART;TZID=America/New_York:20240615T090000
DTEND;TZID=America/New_York:20240615T120000
DTSTAMP:20260424T065802
CREATED:20240509T031150Z
LAST-MODIFIED:20240510T042916Z
UID:3049-1718442000-1718452800@suburbanswim.club
SUMMARY:Oaklands-Yorklyn
DESCRIPTION:Red Division Dual Meet: Meet 1
URL:https://suburbanswim.club/meet/oaklands-yorklyn/
LOCATION:Oaklands Swim Club\, 301 Hillside Rd\, Newark\, 19717\, United States
CATEGORIES:Dual Meet
END:VEVENT
BEGIN:VEVENT
DTSTART;TZID=America/New_York:20240615T090000
DTEND;TZID=America/New_York:20240615T120000
DTSTAMP:20260424T065802
CREATED:20240509T031150Z
LAST-MODIFIED:20240510T042916Z
UID:3050-1718442000-1718452800@suburbanswim.club
SUMMARY:Skyline-Penn Acres
DESCRIPTION:Blue Division Dual Meet: Meet 1
URL:https://suburbanswim.club/meet/skyline-penn-acres/
LOCATION:Skyline Swim Club\, 2901 Skyline Dr\, Wilmington\, DE\, 19808\, United States
CATEGORIES:Dual Meet
END:VEVENT
BEGIN:VEVENT
DTSTART;TZID=America/New_York:20240615T090000
DTEND;TZID=America/New_York:20240615T120000
DTSTAMP:20260424T065802
CREATED:20240509T031149Z
LAST-MODIFIED:20240510T042916Z
UID:3047-1718442000-1718452800@suburbanswim.club
SUMMARY:Drummond Hill-Wedgewood
DESCRIPTION:Red Division Dual Meet: Meet 1
URL:https://suburbanswim.club/meet/drummond-hill-wedgewood/
LOCATION:Drummond Hill Swim Club\, 79 Alton Road\, Newark\, 19711\, United States
CATEGORIES:Dual Meet
END:VEVENT
BEGIN:VEVENT
DTSTART;TZID=America/New_York:20240615T090000
DTEND;TZID=America/New_York:20240615T120000
DTSTAMP:20260424T065802
CREATED:20240509T031149Z
LAST-MODIFIED:20240510T042916Z
UID:3048-1718442000-1718452800@suburbanswim.club
SUMMARY:North Star-Westminster
DESCRIPTION:Red Division Dual Meet: Meet 1
URL:https://suburbanswim.club/meet/north-star-westminster/
LOCATION:North Star Swim Club\, 100 Saturn Dr\, Newark\, DE\, 19711\, United States
CATEGORIES:Dual Meet
END:VEVENT
BEGIN:VEVENT
DTSTART;TZID=America/New_York:20240615T090000
DTEND;TZID=America/New_York:20240615T120000
DTSTAMP:20260424T065802
CREATED:20240509T031149Z
LAST-MODIFIED:20240510T042915Z
UID:3046-1718442000-1718452800@suburbanswim.club
SUMMARY:Western Y-Nottingham Green
DESCRIPTION:Red Division Dual Meet: Meet 1
URL:https://suburbanswim.club/meet/western-y-nottingham-green/
LOCATION:Western Family YMCA\, 2600 Capitol Trail\, Newark\, DE\, 19711\, United States
CATEGORIES:Dual Meet
END:VEVENT
BEGIN:VEVENT
DTSTART;TZID=America/New_York:20240612T190000
DTEND;TZID=America/New_York:20240612T210000
DTSTAMP:20260424T065802
CREATED:20240607T183618Z
LAST-MODIFIED:20240607T184448Z
UID:3514-1718218800-1718226000@suburbanswim.club
SUMMARY:New & Experienced Stroke & Turn
DESCRIPTION:Make-up session for BOTH SSL S&T officials .  \n\n\n\n\n\n\n\n\nMeeting ID: 928 302 2648Passcode: 202663 \n\n\n\nhttps://us02web.zoom.us/j/9283022648?pwd=aW0rYjA2L3dZd3ZQcGJ3L1o2NUUzQT09
URL:https://suburbanswim.club/meet/new-experienced-stroke-turn/
CATEGORIES:Clinic
LOCATION:https://us02web.zoom.us/j/9283022648
END:VEVENT
BEGIN:VEVENT
DTSTART;TZID=America/New_York:20240609T120000
DTEND;TZID=America/New_York:20240609T133000
DTSTAMP:20260424T065802
CREATED:20240529T035725Z
LAST-MODIFIED:20240529T040349Z
UID:3483-1717934400-1717939800@suburbanswim.club
SUMMARY:SSL Coaches Meeting – MANDATORY
DESCRIPTION:LIVE | IN-PERSON  \n\n\n\nMandatory meeting for all SSL Coaches. Should be attended by at least the team’s Head Coach(es). Assistant Coach(es) are optional attendees.
URL:https://suburbanswim.club/meet/ssl-coaches-meeting-mandatory-2/
LOCATION:Oakwood Valley Club\, 4909 Kirkwood Hwy\, Wilmington\, 19808\, United States
CATEGORIES:Meeting
END:VEVENT
BEGIN:VEVENT
DTSTART;TZID=America/New_York:20240608T090000
DTEND;TZID=America/New_York:20240608T120000
DTSTAMP:20260424T065802
CREATED:20240515T025557Z
LAST-MODIFIED:20240603T020751Z
UID:3366-1717837200-1717848000@suburbanswim.club
SUMMARY:New Stroke & Turn - In-Water Demonstration
DESCRIPTION:Does NOT count as attendance at an SSL Officials’ class but is a helpful hands-on training and practice session for Stroke and Turn Officials \n\n\n\nLocation – Nottingham Swim Club || Time: 9:00 AM
URL:https://suburbanswim.club/meet/new-stroke-turn-in-water-demonstration/
LOCATION:Nottingham Swim Club\, 200 Radcliffe Dr\, Newark\, DE\, 19711\, United States
CATEGORIES:Clinic
END:VEVENT
BEGIN:VEVENT
DTSTART;TZID=America/New_York:20240608T090000
DTEND;TZID=America/New_York:20240608T120000
DTSTAMP:20260424T065802
CREATED:20240515T025309Z
LAST-MODIFIED:20240603T020750Z
UID:3364-1717837200-1717848000@suburbanswim.club
SUMMARY:Starter - Hands-On/Practice
DESCRIPTION:Does NOT count as attendance at an SSL Officials’ class but is a helpful hands-on training and practice practice session for Starters. \n\n\n\nLocation – Nottingham Swim Club || Time: 9:00 AM
URL:https://suburbanswim.club/meet/starter-hands-on-practice/
LOCATION:Nottingham Swim Club\, 200 Radcliffe Dr\, Newark\, DE\, 19711\, United States
CATEGORIES:Clinic
END:VEVENT
BEGIN:VEVENT
DTSTART;TZID=America/New_York:20240607T190000
DTEND;TZID=America/New_York:20240607T210000
DTSTAMP:20260424T065802
CREATED:20240515T024925Z
LAST-MODIFIED:20240517T032052Z
UID:3360-1717786800-1717794000@suburbanswim.club
SUMMARY:Referee/Starter
DESCRIPTION:Referee/Starter which will qualify the official to function as the Referee\, Starter\, Chief Judge\, or S&T official at an SSL meet. To attend this class\, the official must have at least one year of SSL experience\, be a currently certified YMCA or USA Swimming official\, or have attended an SSL New S&T class that season. \n\n\n\n\n\n\n\n\nMeeting ID: 928 302 2648Passcode: 202663 \n\n\n\nhttps://us02web.zoom.us/j/9283022648?pwd=aW0rYjA2L3dZd3ZQcGJ3L1o2NUUzQT09
URL:https://suburbanswim.club/meet/referee-starter-7/
CATEGORIES:Clinic
LOCATION:https://us02web.zoom.us/j/9283022648
END:VEVENT
BEGIN:VEVENT
DTSTART;TZID=America/New_York:20240607T183000
DTEND;TZID=America/New_York:20240607T190000
DTSTAMP:20260424T065802
CREATED:20240515T024920Z
LAST-MODIFIED:20240517T032049Z
UID:3361-1717785000-1717786800@suburbanswim.club
SUMMARY:Referee/Starter - New Officials Pre-Meeting
DESCRIPTION:This information session is for new officials that have not previously attended or served as a Referee/Starter. This information session is in addition to the scheduled Referee/Starter meeting which starts at 7:00 PM \n\n\n\n\n\n\n\n\nMeeting ID: 928 302 2648Passcode: 202663 \n\n\n\nhttps://us02web.zoom.us/j/9283022648?pwd=aW0rYjA2L3dZd3ZQcGJ3L1o2NUUzQT09
URL:https://suburbanswim.club/meet/referee-starter-new-officials-pre-meeting-6/
CATEGORIES:Clinic
LOCATION:https://us02web.zoom.us/j/9283022648
END:VEVENT
BEGIN:VEVENT
DTSTART;TZID=America/New_York:20240606T190000
DTEND;TZID=America/New_York:20240606T210000
DTSTAMP:20260424T065802
CREATED:20240515T023515Z
LAST-MODIFIED:20240517T032044Z
UID:3352-1717700400-1717707600@suburbanswim.club
SUMMARY:Experienced Stroke & Turn
DESCRIPTION:Experienced SSL Stroke & Turn Official which will qualify the official to work as a S&T official or as a Chief Judge. This class will be for SSL S&T officials with at least three years’ experience as an SSL S&T official or be a currently certified YMCA or USA Swimming official. \n\n\n\n\n\n\n\n\nMeeting ID: 928 302 2648Passcode: 202663 \n\n\n\nhttps://us02web.zoom.us/j/9283022648?pwd=aW0rYjA2L3dZd3ZQcGJ3L1o2NUUzQT09
URL:https://suburbanswim.club/meet/experienced-stroke-turn-9/
CATEGORIES:Clinic
LOCATION:https://us02web.zoom.us/j/9283022648
END:VEVENT
BEGIN:VEVENT
DTSTART;TZID=America/New_York:20240605T190000
DTEND;TZID=America/New_York:20240605T210000
DTSTAMP:20260424T065802
CREATED:20240515T020947Z
LAST-MODIFIED:20240517T032028Z
UID:3338-1717614000-1717621200@suburbanswim.club
SUMMARY:New Stroke & Turn
DESCRIPTION:New SSL Stroke & Turn Officials. This class will be for new officials. \n\n\n\n\n\n\n\n\nMeeting ID: 928 302 2648Passcode: 202663 \n\n\n\nhttps://us02web.zoom.us/j/9283022648?pwd=aW0rYjA2L3dZd3ZQcGJ3L1o2NUUzQT09
URL:https://suburbanswim.club/meet/new-stroke-turn-16/
CATEGORIES:Clinic
LOCATION:https://us02web.zoom.us/j/9283022648
END:VEVENT
BEGIN:VEVENT
DTSTART;TZID=America/New_York:20240604T183000
DTEND;TZID=America/New_York:20240604T203000
DTSTAMP:20260424T065802
CREATED:20240513T022001Z
LAST-MODIFIED:20240513T023243Z
UID:3301-1717525800-1717533000@suburbanswim.club
SUMMARY:Scorer's Clinic
DESCRIPTION:Scorer’s Clinic \n\n\n\nLIVE In-Person Meeting \n\n\n\nLocation TBD
URL:https://suburbanswim.club/meet/scorers-clinic-2/
CATEGORIES:Clinic
END:VEVENT
BEGIN:VEVENT
DTSTART;TZID=America/New_York:20240603T190000
DTEND;TZID=America/New_York:20240603T210000
DTSTAMP:20260424T065802
CREATED:20240515T020925Z
LAST-MODIFIED:20240517T032016Z
UID:3337-1717441200-1717448400@suburbanswim.club
SUMMARY:New Stroke & Turn
DESCRIPTION:New SSL Stroke & Turn Officials. This class will be for new officials. \n\n\n\n\n\n\n\n\nMeeting ID: 928 302 2648Passcode: 202663 \n\n\n\nhttps://us02web.zoom.us/j/9283022648?pwd=aW0rYjA2L3dZd3ZQcGJ3L1o2NUUzQT09
URL:https://suburbanswim.club/meet/new-stroke-turn-15/
CATEGORIES:Clinic
LOCATION:https://us02web.zoom.us/j/9283022648
END:VEVENT
BEGIN:VEVENT
DTSTART;TZID=America/New_York:20240602T190000
DTEND;TZID=America/New_York:20240602T210000
DTSTAMP:20260424T065802
CREATED:20240515T023441Z
LAST-MODIFIED:20240517T032001Z
UID:3353-1717354800-1717362000@suburbanswim.club
SUMMARY:Experienced Stroke & Turn
DESCRIPTION:Experienced SSL Stroke & Turn Official which will qualify the official to work as a S&T official or as a Chief Judge. This class will be for SSL S&T officials with at least three years’ experience as an SSL S&T official or be a currently certified YMCA or USA Swimming official. \n\n\n\n\n\n\n\n\nMeeting ID: 928 302 2648Passcode: 202663 \n\n\n\nhttps://us02web.zoom.us/j/9283022648?pwd=aW0rYjA2L3dZd3ZQcGJ3L1o2NUUzQT09
URL:https://suburbanswim.club/meet/experienced-stroke-turn-8/
CATEGORIES:Clinic
LOCATION:https://us02web.zoom.us/j/9283022648
END:VEVENT
BEGIN:VEVENT
DTSTART;TZID=America/New_York:20240602T190000
DTEND;TZID=America/New_York:20240602T203000
DTSTAMP:20260424T065802
CREATED:20240324T213758Z
LAST-MODIFIED:20240510T042049Z
UID:2783-1717354800-1717360200@suburbanswim.club
SUMMARY:SSL Regular Season Meeting - June
DESCRIPTION:June Meeting Date
URL:https://suburbanswim.club/meet/ssl-regular-season-meeting-june/
LOCATION:First Presbyterian Church\, 292 W Main St\, Newark\, DE\, 19711\, United States
CATEGORIES:Meeting,SSL Rep
END:VEVENT
BEGIN:VEVENT
DTSTART;TZID=America/New_York:20240528T190000
DTEND;TZID=America/New_York:20240528T210000
DTSTAMP:20260424T065802
CREATED:20240515T014241Z
LAST-MODIFIED:20240517T031732Z
UID:3333-1716922800-1716930000@suburbanswim.club
SUMMARY:New Stroke & Turn
DESCRIPTION:New SSL Stroke & Turn Officials. This class will be for new officials. \n\n\n\n\n\n\n\n\nMeeting ID: 928 302 2648Passcode: 202663 \n\n\n\nhttps://us02web.zoom.us/j/9283022648?pwd=aW0rYjA2L3dZd3ZQcGJ3L1o2NUUzQT09
URL:https://suburbanswim.club/meet/new-stroke-turn-14/
CATEGORIES:Clinic
LOCATION:https://us02web.zoom.us/j/9283022648
END:VEVENT
BEGIN:VEVENT
DTSTART;TZID=America/New_York:20240523T190000
DTEND;TZID=America/New_York:20240523T210000
DTSTAMP:20260424T065802
CREATED:20240513T014350Z
LAST-MODIFIED:20240517T031715Z
UID:3281-1716490800-1716498000@suburbanswim.club
SUMMARY:Scorer's Clinic
DESCRIPTION:Scorer’s Clinic \n\n\n\n\n\n\n\n\nMeeting ID: 928 302 2648Passcode: 202663 \n\n\n\nhttps://us02web.zoom.us/j/9283022648?pwd=aW0rYjA2L3dZd3ZQcGJ3L1o2NUUzQT09
URL:https://suburbanswim.club/meet/scorers-clinic/
CATEGORIES:Clinic
LOCATION:https://us02web.zoom.us/j/9283022648
END:VEVENT
BEGIN:VEVENT
DTSTART;TZID=America/New_York:20240522T190000
DTEND;TZID=America/New_York:20240522T210000
DTSTAMP:20260424T065802
CREATED:20240513T025114Z
LAST-MODIFIED:20240517T031704Z
UID:3317-1716404400-1716411600@suburbanswim.club
SUMMARY:Experienced Stroke & Turn
DESCRIPTION:Experienced SSL Stroke & Turn Official which will qualify the official to work as a S&T official or as a Chief Judge. This class will be for SSL S&T officials with at least three years’ experience as an SSL S&T official or be a currently certified YMCA or USA Swimming official. \n\n\n\n\n\n\n\n\nMeeting ID: 928 302 2648Passcode: 202663 \n\n\n\nhttps://us02web.zoom.us/j/9283022648?pwd=aW0rYjA2L3dZd3ZQcGJ3L1o2NUUzQT09
URL:https://suburbanswim.club/meet/experienced-stroke-turn-7/
CATEGORIES:Clinic
LOCATION:https://us02web.zoom.us/j/9283022648
END:VEVENT
BEGIN:VEVENT
DTSTART;TZID=America/New_York:20240521T190000
DTEND;TZID=America/New_York:20240521T210000
DTSTAMP:20260424T065802
CREATED:20240513T024431Z
LAST-MODIFIED:20240517T031628Z
UID:3311-1716318000-1716325200@suburbanswim.club
SUMMARY:Referee/Starter
DESCRIPTION:Referee/Starter which will qualify the official to function as the Referee\, Starter\, Chief Judge\, or S&T official at an SSL meet. To attend this class\, the official must have at least one year of SSL experience\, be a currently certified YMCA or USA Swimming official\, or have attended an SSL New S&T class that season. \n\n\n\n\n\n\n\n\nMeeting ID: 928 302 2648Passcode: 202663 \n\n\n\nhttps://us02web.zoom.us/j/9283022648?pwd=aW0rYjA2L3dZd3ZQcGJ3L1o2NUUzQT09
URL:https://suburbanswim.club/meet/referee-starter-6/
CATEGORIES:Clinic
LOCATION:https://us02web.zoom.us/j/9283022648
END:VEVENT
BEGIN:VEVENT
DTSTART;TZID=America/New_York:20240521T183000
DTEND;TZID=America/New_York:20240521T190000
DTSTAMP:20260424T065802
CREATED:20240513T023908Z
LAST-MODIFIED:20240517T031614Z
UID:3308-1716316200-1716318000@suburbanswim.club
SUMMARY:Referee/Starter - New Officials Pre-Meeting
DESCRIPTION:This information session is for new officials that have not previously attended or served as a Referee/Starter. This information session is in addition to the scheduled Referee/Starter meeting which starts at 7:00 PM \n\n\n\n\n\n\n\n\nMeeting ID: 928 302 2648Passcode: 202663 \n\n\n\nhttps://us02web.zoom.us/j/9283022648?pwd=aW0rYjA2L3dZd3ZQcGJ3L1o2NUUzQT09
URL:https://suburbanswim.club/meet/referee-starter-new-officials-pre-meeting-5/
CATEGORIES:Clinic
LOCATION:https://us02web.zoom.us/j/9283022648
END:VEVENT
BEGIN:VEVENT
DTSTART;TZID=America/New_York:20240520T190000
DTEND;TZID=America/New_York:20240520T210000
DTSTAMP:20260424T065802
CREATED:20240513T022432Z
LAST-MODIFIED:20240517T031556Z
UID:3304-1716231600-1716238800@suburbanswim.club
SUMMARY:New Stroke & Turn
DESCRIPTION:New SSL Stroke & Turn Officials. This class will be for new officials. \n\n\n\n\n\n\n\n\nMeeting ID: 928 302 2648Passcode: 202663 \n\n\n\nhttps://us02web.zoom.us/j/9283022648?pwd=aW0rYjA2L3dZd3ZQcGJ3L1o2NUUzQT09
URL:https://suburbanswim.club/meet/new-stroke-turn9/
CATEGORIES:Clinic
LOCATION:https://us02web.zoom.us/j/9283022648
END:VEVENT
BEGIN:VEVENT
DTSTART;TZID=America/New_York:20240519T190000
DTEND;TZID=America/New_York:20240519T203000
DTSTAMP:20260424T065802
CREATED:20240324T213734Z
LAST-MODIFIED:20240324T213810Z
UID:2782-1716145200-1716150600@suburbanswim.club
SUMMARY:SSL Regular Season Meeting - May
DESCRIPTION:May Meeting Date
URL:https://suburbanswim.club/meet/ssl-regular-season-meeting-may/
LOCATION:First Presbyterian Church\, 292 W Main St\, Newark\, DE\, 19711\, United States
CATEGORIES:Meeting,SSL Rep
END:VEVENT
BEGIN:VEVENT
DTSTART;TZID=America/New_York:20240421T190000
DTEND;TZID=America/New_York:20240421T203000
DTSTAMP:20260424T065802
CREATED:20240324T213657Z
LAST-MODIFIED:20240324T213815Z
UID:2781-1713726000-1713731400@suburbanswim.club
SUMMARY:SSL Regular Season Meeting - April
DESCRIPTION:April Meeting Date
URL:https://suburbanswim.club/meet/ssl-regular-season-meeting-april/
LOCATION:First Presbyterian Church\, 292 W Main St\, Newark\, DE\, 19711\, United States
CATEGORIES:Meeting,SSL Rep
END:VEVENT
BEGIN:VEVENT
DTSTART;TZID=America/New_York:20240324T190000
DTEND;TZID=America/New_York:20240324T203000
DTSTAMP:20260424T065802
CREATED:20240324T213526Z
LAST-MODIFIED:20240324T213531Z
UID:2777-1711306800-1711312200@suburbanswim.club
SUMMARY:SSL Regular Season Meeting - March
DESCRIPTION:March Meeting Date
URL:https://suburbanswim.club/meet/ssl-regular-season-meeting-march/
LOCATION:First Presbyterian Church\, 292 W Main St\, Newark\, DE\, 19711\, United States
CATEGORIES:Meeting,SSL Rep
END:VEVENT
BEGIN:VEVENT
DTSTART;TZID=America/New_York:20230918T190000
DTEND;TZID=America/New_York:20230918T210000
DTSTAMP:20260424T065802
CREATED:20230615T024519Z
LAST-MODIFIED:20230917T235454Z
UID:2323-1695063600-1695070800@suburbanswim.club
SUMMARY:SSL Rep End of Season Meeting
DESCRIPTION:End of Season SSL Rep Meeting.
URL:https://suburbanswim.club/meet/ssl-rep-meeting/
LOCATION:Western Family YMCA\, 2600 Capitol Trail\, Newark\, DE\, 19711\, United States
CATEGORIES:Meeting,SSL Rep
END:VEVENT
BEGIN:VEVENT
DTSTART;TZID=America/New_York:20230722T084500
DTEND;TZID=America/New_York:20230722T140000
DTSTAMP:20260424T065802
CREATED:20230516T212038Z
LAST-MODIFIED:20230608T015628Z
UID:856-1690015500-1690034400@suburbanswim.club
SUMMARY:SSL Championship Finals
DESCRIPTION:SSL Championship Finals. First warm-up at 7:30 am\, Meet Starts at 8:45 am
URL:https://suburbanswim.club/meet/ssl-championship-finals-3/
LOCATION:Western Family YMCA\, 2600 Capitol Trail\, Newark\, DE\, 19711\, United States
CATEGORIES:Championship
END:VEVENT
BEGIN:VEVENT
DTSTART;TZID=America/New_York:20230719T173000
DTEND;TZID=America/New_York:20230719T210000
DTSTAMP:20260424T065802
CREATED:20230525T052550Z
LAST-MODIFIED:20230608T015627Z
UID:1461-1689787800-1689800400@suburbanswim.club
SUMMARY:Time Trials - 8 & Under
DESCRIPTION:Time Trials – 8 & Under. First warm-up at 4:15 pm\, Meet Starts at 5:30 pm
URL:https://suburbanswim.club/meet/time-trials-8-under-3/
LOCATION:Wedgewood Swim Club\, 2A Wedgefield Dr\, New Castle\, DE\, 19720\, United States
CATEGORIES:Time Trial
END:VEVENT
END:VCALENDAR