BEGIN:VCALENDAR
VERSION:2.0
PRODID:-//Suburban Swim League - ECPv6.15.20//NONSGML v1.0//EN
CALSCALE:GREGORIAN
METHOD:PUBLISH
X-ORIGINAL-URL:https://suburbanswim.club
X-WR-CALDESC:Events for Suburban Swim League
REFRESH-INTERVAL;VALUE=DURATION:PT1H
X-Robots-Tag:noindex
X-PUBLISHED-TTL:PT1H
BEGIN:VTIMEZONE
TZID:America/New_York
BEGIN:DAYLIGHT
TZOFFSETFROM:-0500
TZOFFSETTO:-0400
TZNAME:EDT
DTSTART:20230312T070000
END:DAYLIGHT
BEGIN:STANDARD
TZOFFSETFROM:-0400
TZOFFSETTO:-0500
TZNAME:EST
DTSTART:20231105T060000
END:STANDARD
BEGIN:DAYLIGHT
TZOFFSETFROM:-0500
TZOFFSETTO:-0400
TZNAME:EDT
DTSTART:20240310T070000
END:DAYLIGHT
BEGIN:STANDARD
TZOFFSETFROM:-0400
TZOFFSETTO:-0500
TZNAME:EST
DTSTART:20241103T060000
END:STANDARD
BEGIN:DAYLIGHT
TZOFFSETFROM:-0500
TZOFFSETTO:-0400
TZNAME:EDT
DTSTART:20250309T070000
END:DAYLIGHT
BEGIN:STANDARD
TZOFFSETFROM:-0400
TZOFFSETTO:-0500
TZNAME:EST
DTSTART:20251102T060000
END:STANDARD
END:VTIMEZONE
BEGIN:VEVENT
DTSTART;TZID=America/New_York:20240710T180000
DTEND;TZID=America/New_York:20240710T210000
DTSTAMP:20260424T005957
CREATED:20240509T031511Z
LAST-MODIFIED:20240510T043204Z
UID:3093-1720634400-1720645200@suburbanswim.club
SUMMARY:Yorklyn-Drummond Hill
DESCRIPTION:Red Division Dual Meet: Meet 7
URL:https://suburbanswim.club/meet/yorklyn-drummond-hill/
LOCATION:Yorklyn Swim Club\, 389 Lower Snuff Mill Road\, Hockessin\, 19707\, United States
CATEGORIES:Dual Meet
END:VEVENT
BEGIN:VEVENT
DTSTART;TZID=America/New_York:20240710T180000
DTEND;TZID=America/New_York:20240710T210000
DTSTAMP:20260424T005957
CREATED:20240509T031511Z
LAST-MODIFIED:20240510T043204Z
UID:3094-1720634400-1720645200@suburbanswim.club
SUMMARY:Skyline-Persimmon Creek
DESCRIPTION:Blue Division Dual Meet: Meet 7
URL:https://suburbanswim.club/meet/skyline-persimmon-creek/
LOCATION:Skyline Swim Club\, 2901 Skyline Dr\, Wilmington\, DE\, 19808\, United States
CATEGORIES:Dual Meet
END:VEVENT
BEGIN:VEVENT
DTSTART;TZID=America/New_York:20240710T180000
DTEND;TZID=America/New_York:20240710T210000
DTSTAMP:20260424T005957
CREATED:20240509T031510Z
LAST-MODIFIED:20240510T043203Z
UID:3091-1720634400-1720645200@suburbanswim.club
SUMMARY:Nottingham Green-Wedgewood
DESCRIPTION:Red Division Dual Meet: Meet 7
URL:https://suburbanswim.club/meet/nottingham-green-wedgewood/
LOCATION:Nottingham Swim Club\, 200 Radcliffe Dr\, Newark\, DE\, 19711\, United States
CATEGORIES:Dual Meet
END:VEVENT
BEGIN:VEVENT
DTSTART;TZID=America/New_York:20240710T180000
DTEND;TZID=America/New_York:20240710T210000
DTSTAMP:20260424T005957
CREATED:20240509T031458Z
LAST-MODIFIED:20240510T043149Z
UID:3090-1720634400-1720645200@suburbanswim.club
SUMMARY:Westminster-Western Y
DESCRIPTION:Red Division Dual Meet: Meet 7
URL:https://suburbanswim.club/meet/westminster-western-y/
LOCATION:Westminster Swim Club\, 3200 Heritage Dr\, Wilmington\, 19808\, United States
CATEGORIES:Dual Meet
END:VEVENT
BEGIN:VEVENT
DTSTART;TZID=America/New_York:20240708T180000
DTEND;TZID=America/New_York:20240708T210000
DTSTAMP:20260424T005957
CREATED:20240513T141858Z
LAST-MODIFIED:20240619T023517Z
UID:3326-1720461600-1720472400@suburbanswim.club
SUMMARY:Crestmoor-Penn Acres
DESCRIPTION:Blue Division Dual Meet: Meet 9
URL:https://suburbanswim.club/meet/crestmoor-penn-acres/
LOCATION:Crestmoor Swim Club\, 640 W Summit Ave\, Wilmington\, 19804\, United States
CATEGORIES:Dual Meet
END:VEVENT
BEGIN:VEVENT
DTSTART;TZID=America/New_York:20240706T000000
DTEND;TZID=America/New_York:20240706T235959
DTSTAMP:20260424T005957
CREATED:20240619T023812Z
LAST-MODIFIED:20240619T023818Z
UID:3548-1720224000-1720310399@suburbanswim.club
SUMMARY:LEAGUE BYE DATE
DESCRIPTION:League Wide BYE Date for all teams and divisions
URL:https://suburbanswim.club/meet/league-bye-date-2/
END:VEVENT
BEGIN:VEVENT
DTSTART;TZID=America/New_York:20240702T180000
DTEND;TZID=America/New_York:20240702T210000
DTSTAMP:20260424T005957
CREATED:20240509T031458Z
LAST-MODIFIED:20240510T043148Z
UID:3089-1719943200-1719954000@suburbanswim.club
SUMMARY:Penn Acres-Maple Valley
DESCRIPTION:Blue Division Dual Meet: Meet 6
URL:https://suburbanswim.club/meet/penn-acres-maple-valley/
LOCATION:Penn Acres Swim Club\, 30 Fithian Dr\, Wilmington Manor\, 19720\, United States
CATEGORIES:Dual Meet
END:VEVENT
BEGIN:VEVENT
DTSTART;TZID=America/New_York:20240702T180000
DTEND;TZID=America/New_York:20240702T210000
DTSTAMP:20260424T005957
CREATED:20240509T031458Z
LAST-MODIFIED:20240510T043148Z
UID:3087-1719943200-1719954000@suburbanswim.club
SUMMARY:Arundel-Persimmon Creek
DESCRIPTION:Blue Division Dual Meet: Meet 6
URL:https://suburbanswim.club/meet/arundel-persimmon-creek-2/
LOCATION:Arundel Swim Club\, 1279 Elderon Drive\, Wilmington\, 19808\, United States
CATEGORIES:Dual Meet
END:VEVENT
BEGIN:VEVENT
DTSTART;TZID=America/New_York:20240702T180000
DTEND;TZID=America/New_York:20240702T210000
DTSTAMP:20260424T005957
CREATED:20240509T031458Z
LAST-MODIFIED:20240510T043148Z
UID:3088-1719943200-1719954000@suburbanswim.club
SUMMARY:Fairfield-Sherwood Park
DESCRIPTION:Blue Division Dual Meet: Meet 6
URL:https://suburbanswim.club/meet/fairfield-sherwood-park/
LOCATION:Fairfield Crest Swim Club\, 1 Fremont Road\, Newark\, 19711\, United States
CATEGORIES:Dual Meet
END:VEVENT
BEGIN:VEVENT
DTSTART;TZID=America/New_York:20240702T180000
DTEND;TZID=America/New_York:20240702T210000
DTSTAMP:20260424T005957
CREATED:20240509T031457Z
LAST-MODIFIED:20240510T043148Z
UID:3086-1719943200-1719954000@suburbanswim.club
SUMMARY:Oakwood Valley-Skyline
DESCRIPTION:Blue Division Dual Meet: Meet 6
URL:https://suburbanswim.club/meet/oakwood-valley-skyline/
LOCATION:Oakwood Valley Club\, 4909 Kirkwood Hwy\, Wilmington\, 19808\, United States
CATEGORIES:Dual Meet
END:VEVENT
BEGIN:VEVENT
DTSTART;TZID=America/New_York:20240630T083000
DTEND;TZID=America/New_York:20240630T123000
DTSTAMP:20260424T005957
CREATED:20240509T033933Z
LAST-MODIFIED:20240509T033937Z
UID:3111-1719736200-1719750600@suburbanswim.club
SUMMARY:Stars & Stripes Developmental Swim Meet
DESCRIPTION:Purpose: The purpose of the Stars & Stripes Swim Meet is to promote the growth and development of swimming throughout the Suburban Swim League. This meet is set up to allow the less experienced swimmer to compete as an individual at a level comparable to his or her own in the hopes of generating the experience needed to be competitive at a time trial meet. \n\n\n\n\n\n\n\nEligibility: Swimmers must be 12 years old or younger as of the Suburban Swim League cutoff date\, May 30\, 2024. To enter an event\, the swimmer’s time must be slower than the cut off time. The cut off times are determined by the 16th place qualifier of last year’s (2023) Championships. Swimmers are not eligible to swim within any age group other than their own. \n\n\n\n\n\n\n\nSwimmer Entry Fee: $1.00 per event per swimmer. Fees will be collected the day of the meet.Please make checks out to Oaklands Swim ClubAdmission: $1.00 for those over six years oldPrograms: $1.00 \n\n\n\nFull Details & Registration Form can be found at below link: \n\n\n\nStars & Stripes Announcemen
URL:https://suburbanswim.club/meet/stars-stripes-developmental-swim-meet-2/
LOCATION:Oaklands Swim Club\, 301 Hillside Rd\, Newark\, 19717\, United States
CATEGORIES:Special Events,Stars & Stripes
END:VEVENT
BEGIN:VEVENT
DTSTART;TZID=America/New_York:20240629T090000
DTEND;TZID=America/New_York:20240629T120000
DTSTAMP:20260424T005957
CREATED:20240509T031416Z
LAST-MODIFIED:20240510T043139Z
UID:3084-1719651600-1719662400@suburbanswim.club
SUMMARY:Maple Valley-Arundel
DESCRIPTION:Blue Division Dual Meet: Meet 5
URL:https://suburbanswim.club/meet/maple-valley-arundel-2/
LOCATION:Maple Valley Swim Club\, Old Possum Park Road\, Newark\, 19711\, United States
CATEGORIES:Dual Meet
END:VEVENT
BEGIN:VEVENT
DTSTART;TZID=America/New_York:20240629T090000
DTEND;TZID=America/New_York:20240629T120000
DTSTAMP:20260424T005957
CREATED:20240509T031416Z
LAST-MODIFIED:20240510T043139Z
UID:3085-1719651600-1719662400@suburbanswim.club
SUMMARY:Penn Acres-Oakwood Valley
DESCRIPTION:Blue Division Dual Meet: Meet 5
URL:https://suburbanswim.club/meet/penn-acres-oakwood-valley/
LOCATION:Penn Acres Swim Club\, 30 Fithian Dr\, Wilmington Manor\, 19720\, United States
CATEGORIES:Dual Meet
END:VEVENT
BEGIN:VEVENT
DTSTART;TZID=America/New_York:20240629T090000
DTEND;TZID=America/New_York:20240629T120000
DTSTAMP:20260424T005957
CREATED:20240509T031416Z
LAST-MODIFIED:20240510T043139Z
UID:3083-1719651600-1719662400@suburbanswim.club
SUMMARY:Crestmoor-Sherwood Park
DESCRIPTION:Blue Division Dual Meet: Meet 5
URL:https://suburbanswim.club/meet/crestmoor-sherwood-park/
LOCATION:Crestmoor Swim Club\, 640 W Summit Ave\, Wilmington\, 19804\, United States
CATEGORIES:Dual Meet
END:VEVENT
BEGIN:VEVENT
DTSTART;TZID=America/New_York:20240629T090000
DTEND;TZID=America/New_York:20240629T120000
DTSTAMP:20260424T005957
CREATED:20240509T031415Z
LAST-MODIFIED:20240510T043139Z
UID:3081-1719651600-1719662400@suburbanswim.club
SUMMARY:Oaklands-Westminster
DESCRIPTION:Red Division Dual Meet: Meet 5
URL:https://suburbanswim.club/meet/oaklands-westminster/
LOCATION:Oaklands Swim Club\, 301 Hillside Rd\, Newark\, 19717\, United States
CATEGORIES:Dual Meet
END:VEVENT
BEGIN:VEVENT
DTSTART;TZID=America/New_York:20240629T090000
DTEND;TZID=America/New_York:20240629T120000
DTSTAMP:20260424T005957
CREATED:20240509T031415Z
LAST-MODIFIED:20240510T043139Z
UID:3082-1719651600-1719662400@suburbanswim.club
SUMMARY:Fairfield-Persimmon Creek
DESCRIPTION:Blue Division Dual Meet: Meet 5
URL:https://suburbanswim.club/meet/fairfield-persimmon-creek/
LOCATION:Fairfield Crest Swim Club\, 1 Fremont Road\, Newark\, 19711\, United States
CATEGORIES:Dual Meet
END:VEVENT
BEGIN:VEVENT
DTSTART;TZID=America/New_York:20240629T090000
DTEND;TZID=America/New_York:20240629T120000
DTSTAMP:20260424T005957
CREATED:20240509T031401Z
LAST-MODIFIED:20240510T043131Z
UID:3079-1719651600-1719662400@suburbanswim.club
SUMMARY:North Star-Wedgewood
DESCRIPTION:Red Division Dual Meet: Meet 5
URL:https://suburbanswim.club/meet/north-star-wedgewood/
LOCATION:North Star Swim Club\, 100 Saturn Dr\, Newark\, DE\, 19711\, United States
CATEGORIES:Dual Meet
END:VEVENT
BEGIN:VEVENT
DTSTART;TZID=America/New_York:20240629T090000
DTEND;TZID=America/New_York:20240629T120000
DTSTAMP:20260424T005957
CREATED:20240509T031401Z
LAST-MODIFIED:20240510T043131Z
UID:3080-1719651600-1719662400@suburbanswim.club
SUMMARY:Yorklyn-Nottingham Green
DESCRIPTION:Red Division Dual Meet: Meet 5
URL:https://suburbanswim.club/meet/yorklyn-nottingham-green/
LOCATION:Yorklyn Swim Club\, 389 Lower Snuff Mill Road\, Hockessin\, 19707\, United States
CATEGORIES:Dual Meet
END:VEVENT
BEGIN:VEVENT
DTSTART;TZID=America/New_York:20240629T090000
DTEND;TZID=America/New_York:20240629T120000
DTSTAMP:20260424T005957
CREATED:20240509T031400Z
LAST-MODIFIED:20240510T043131Z
UID:3078-1719651600-1719662400@suburbanswim.club
SUMMARY:Western Y-Drummond Hill
DESCRIPTION:Red Division Dual Meet: Meet 5
URL:https://suburbanswim.club/meet/western-y-drummond-hill/
LOCATION:Western Family YMCA\, 2600 Capitol Trail\, Newark\, DE\, 19711\, United States
CATEGORIES:Dual Meet
END:VEVENT
BEGIN:VEVENT
DTSTART;TZID=America/New_York:20240626T180000
DTEND;TZID=America/New_York:20240626T210000
DTSTAMP:20260424T005957
CREATED:20240509T031400Z
LAST-MODIFIED:20240510T043131Z
UID:3076-1719424800-1719435600@suburbanswim.club
SUMMARY:Arundel-Fairfield
DESCRIPTION:Blue Division Dual Meet: Meet 4
URL:https://suburbanswim.club/meet/arundel-fairfield/
LOCATION:Arundel Swim Club\, 1279 Elderon Drive\, Wilmington\, 19808\, United States
CATEGORIES:Dual Meet
END:VEVENT
BEGIN:VEVENT
DTSTART;TZID=America/New_York:20240626T180000
DTEND;TZID=America/New_York:20240626T210000
DTSTAMP:20260424T005957
CREATED:20240509T031400Z
LAST-MODIFIED:20240510T043131Z
UID:3077-1719424800-1719435600@suburbanswim.club
SUMMARY:Maple Valley-Crestmoor
DESCRIPTION:Blue Division Dual Meet: Meet 4
URL:https://suburbanswim.club/meet/maple-valley-crestmoor/
LOCATION:Maple Valley Swim Club\, Old Possum Park Road\, Newark\, 19711\, United States
CATEGORIES:Dual Meet
END:VEVENT
BEGIN:VEVENT
DTSTART;TZID=America/New_York:20240626T180000
DTEND;TZID=America/New_York:20240626T210000
DTSTAMP:20260424T005957
CREATED:20240509T031346Z
LAST-MODIFIED:20240510T043056Z
UID:3073-1719424800-1719435600@suburbanswim.club
SUMMARY:Drummond Hill-Oaklands
DESCRIPTION:Red Division Dual Meet: Meet 4
URL:https://suburbanswim.club/meet/drummond-hill-oaklands/
LOCATION:Drummond Hill Swim Club\, 79 Alton Road\, Newark\, 19711\, United States
CATEGORIES:Dual Meet
END:VEVENT
BEGIN:VEVENT
DTSTART;TZID=America/New_York:20240626T180000
DTEND;TZID=America/New_York:20240626T210000
DTSTAMP:20260424T005957
CREATED:20240509T031346Z
LAST-MODIFIED:20240510T043056Z
UID:3074-1719424800-1719435600@suburbanswim.club
SUMMARY:Sherwood Park-Skyline
DESCRIPTION:Blue Division Dual Meet: Meet 4
URL:https://suburbanswim.club/meet/sherwood-park-skyline/
LOCATION:Sherwood Park Swim Club\, 1105 Highgate Rd\, Wilmington\, 19808\, United States
CATEGORIES:Dual Meet
END:VEVENT
BEGIN:VEVENT
DTSTART;TZID=America/New_York:20240626T180000
DTEND;TZID=America/New_York:20240626T210000
DTSTAMP:20260424T005957
CREATED:20240509T031346Z
LAST-MODIFIED:20240510T043056Z
UID:3075-1719424800-1719435600@suburbanswim.club
SUMMARY:Persimmon Creek-Penn Acres
DESCRIPTION:Blue Division Dual Meet: Meet 4
URL:https://suburbanswim.club/meet/persimmon-creek-penn-acres/
LOCATION:Persimmon Creek Swim Club\, 428 Arbour Dr\, Newark\, 19713\, United States
CATEGORIES:Dual Meet
END:VEVENT
BEGIN:VEVENT
DTSTART;TZID=America/New_York:20240626T180000
DTEND;TZID=America/New_York:20240626T210000
DTSTAMP:20260424T005957
CREATED:20240509T031346Z
LAST-MODIFIED:20240510T043055Z
UID:3072-1719424800-1719435600@suburbanswim.club
SUMMARY:Westminster-Nottingham Green
DESCRIPTION:Red Division Dual Meet: Meet 4
URL:https://suburbanswim.club/meet/westminster-nottingham-green/
LOCATION:Westminster Swim Club\, 3200 Heritage Dr\, Wilmington\, 19808\, United States
CATEGORIES:Dual Meet
END:VEVENT
BEGIN:VEVENT
DTSTART;TZID=America/New_York:20240626T180000
DTEND;TZID=America/New_York:20240626T210000
DTSTAMP:20260424T005957
CREATED:20240509T031345Z
LAST-MODIFIED:20240510T043055Z
UID:3071-1719424800-1719435600@suburbanswim.club
SUMMARY:Wedgewood-Yorklyn
DESCRIPTION:Red Division Dual Meet: Meet 4
URL:https://suburbanswim.club/meet/wedgewood-yorklyn/
LOCATION:Wedgewood Swim Club\, 2A Wedgefield Dr\, New Castle\, DE\, 19720\, United States
CATEGORIES:Dual Meet
END:VEVENT
BEGIN:VEVENT
DTSTART;TZID=America/New_York:20240626T180000
DTEND;TZID=America/New_York:20240626T210000
DTSTAMP:20260424T005957
CREATED:20240509T031332Z
LAST-MODIFIED:20240510T043040Z
UID:3070-1719424800-1719435600@suburbanswim.club
SUMMARY:Western Y-North Star
DESCRIPTION:Red Division Dual Meet: Meet 4
URL:https://suburbanswim.club/meet/western-y-north-star/
LOCATION:Western Family YMCA\, 2600 Capitol Trail\, Newark\, DE\, 19711\, United States
CATEGORIES:Dual Meet
END:VEVENT
BEGIN:VEVENT
DTSTART;TZID=America/New_York:20240624T180000
DTEND;TZID=America/New_York:20240624T210000
DTSTAMP:20260424T005957
CREATED:20240619T023516Z
LAST-MODIFIED:20240619T023516Z
UID:3546-1719252000-1719262800@suburbanswim.club
SUMMARY:Skyline-Arundel
DESCRIPTION:Blue Division Dual Meet: Meet 9
URL:https://suburbanswim.club/meet/skyline-arundel-2/
LOCATION:Skyline Swim Club\, 2901 Skyline Dr\, Wilmington\, DE\, 19808\, United States
CATEGORIES:Dual Meet
END:VEVENT
BEGIN:VEVENT
DTSTART;TZID=America/New_York:20240622T090000
DTEND;TZID=America/New_York:20240622T120000
DTSTAMP:20260424T005957
CREATED:20240509T031332Z
LAST-MODIFIED:20240510T043040Z
UID:3068-1719046800-1719057600@suburbanswim.club
SUMMARY:Oakwood Valley-Maple Valley
DESCRIPTION:Blue Division Dual Meet: Meet 3
URL:https://suburbanswim.club/meet/oakwood-valley-maple-valley/
LOCATION:Oakwood Valley Club\, 4909 Kirkwood Hwy\, Wilmington\, 19808\, United States
CATEGORIES:Dual Meet
END:VEVENT
BEGIN:VEVENT
DTSTART;TZID=America/New_York:20240622T090000
DTEND;TZID=America/New_York:20240622T120000
DTSTAMP:20260424T005957
CREATED:20240509T031332Z
LAST-MODIFIED:20240510T043040Z
UID:3069-1719046800-1719057600@suburbanswim.club
SUMMARY:Arundel-Penn Acres
DESCRIPTION:Blue Division Dual Meet: Meet 3
URL:https://suburbanswim.club/meet/arundel-penn-acres/
LOCATION:Arundel Swim Club\, 1279 Elderon Drive\, Wilmington\, 19808\, United States
CATEGORIES:Dual Meet
END:VEVENT
END:VCALENDAR