BEGIN:VCALENDAR
VERSION:2.0
PRODID:-//Suburban Swim League - ECPv6.15.20//NONSGML v1.0//EN
CALSCALE:GREGORIAN
METHOD:PUBLISH
X-ORIGINAL-URL:https://suburbanswim.club
X-WR-CALDESC:Events for Suburban Swim League
REFRESH-INTERVAL;VALUE=DURATION:PT1H
X-Robots-Tag:noindex
X-PUBLISHED-TTL:PT1H
BEGIN:VTIMEZONE
TZID:America/New_York
BEGIN:DAYLIGHT
TZOFFSETFROM:-0500
TZOFFSETTO:-0400
TZNAME:EDT
DTSTART:20240310T070000
END:DAYLIGHT
BEGIN:STANDARD
TZOFFSETFROM:-0400
TZOFFSETTO:-0500
TZNAME:EST
DTSTART:20241103T060000
END:STANDARD
BEGIN:DAYLIGHT
TZOFFSETFROM:-0500
TZOFFSETTO:-0400
TZNAME:EDT
DTSTART:20250309T070000
END:DAYLIGHT
BEGIN:STANDARD
TZOFFSETFROM:-0400
TZOFFSETTO:-0500
TZNAME:EST
DTSTART:20251102T060000
END:STANDARD
BEGIN:DAYLIGHT
TZOFFSETFROM:-0500
TZOFFSETTO:-0400
TZNAME:EDT
DTSTART:20260308T070000
END:DAYLIGHT
BEGIN:STANDARD
TZOFFSETFROM:-0400
TZOFFSETTO:-0500
TZNAME:EST
DTSTART:20261101T060000
END:STANDARD
END:VTIMEZONE
BEGIN:VEVENT
DTSTART;TZID=America/New_York:20250719T090000
DTEND;TZID=America/New_York:20250719T140000
DTSTAMP:20260423T121341
CREATED:20250508T204428Z
LAST-MODIFIED:20250607T194555Z
UID:3714-1752915600-1752933600@suburbanswim.club
SUMMARY:SSL Championship Finals
DESCRIPTION:SSL Championship Finals. Warm-ups at 7:30\, 7:45\, 8:00\, and 8:15 am.  Meet Starts at 9:00 am.
URL:https://suburbanswim.club/meet/ssl-championship-finals-4/
LOCATION:Western Family YMCA\, 2600 Capitol Trail\, Newark\, DE\, 19711\, United States
CATEGORIES:Championship
END:VEVENT
BEGIN:VEVENT
DTSTART;TZID=America/New_York:20250716T163000
DTEND;TZID=America/New_York:20250716T210000
DTSTAMP:20260423T121341
CREATED:20250508T204428Z
LAST-MODIFIED:20250607T194701Z
UID:3713-1752683400-1752699600@suburbanswim.club
SUMMARY:Time Trials - 13 & Over
DESCRIPTION:Time Trials – 13 & Older. Warm-ups at 3:15\, 3:30\, 3:45\, and 4:00 pm. Meet Starts at 4:30 pm
URL:https://suburbanswim.club/meet/time-trials-13-over-5/
LOCATION:Skyline Swim Club\, 2901 Skyline Dr\, Wilmington\, DE\, 19808\, United States
CATEGORIES:Time Trial
END:VEVENT
BEGIN:VEVENT
DTSTART;TZID=America/New_York:20250715T173000
DTEND;TZID=America/New_York:20250715T213000
DTSTAMP:20260423T121341
CREATED:20250508T204427Z
LAST-MODIFIED:20250607T194829Z
UID:3712-1752600600-1752615000@suburbanswim.club
SUMMARY:Time Trials - 11-12 Year Old
DESCRIPTION:Time Trials – 11-12 Year Olds. Warm-ups at 4:15\, 4:30\, 4:45\, and 5:00 pm\, Meet Starts at 5:30 pm
URL:https://suburbanswim.club/meet/time-trials-11-12-year-old-4/
LOCATION:Maple Valley Swim Club\, Old Possum Park Road\, Newark\, 19711\, United States
CATEGORIES:Time Trial
END:VEVENT
BEGIN:VEVENT
DTSTART;TZID=America/New_York:20250714T173000
DTEND;TZID=America/New_York:20250714T213000
DTSTAMP:20260423T121341
CREATED:20250508T204427Z
LAST-MODIFIED:20250607T194851Z
UID:3711-1752514200-1752528600@suburbanswim.club
SUMMARY:Time Trials - 9-10 Year Old
DESCRIPTION:Time Trials – 9-10 Year Olds. Warm-ups at 4:15\, 4:30\, 4:45\, and 5:00 pm\, Meet Starts at 5:30 pm
URL:https://suburbanswim.club/meet/time-trials-9-10-year-old-3/
LOCATION:Crestmoor Swim Club\, 640 W Summit Ave\, Wilmington\, 19804\, United States
CATEGORIES:Time Trial
END:VEVENT
BEGIN:VEVENT
DTSTART;TZID=America/New_York:20250713T154500
DTEND;TZID=America/New_York:20250713T210000
DTSTAMP:20260423T121341
CREATED:20250508T204427Z
LAST-MODIFIED:20250607T195010Z
UID:3710-1752421500-1752440400@suburbanswim.club
SUMMARY:Time Trials - 8 & Under
DESCRIPTION:Time Trials – 8 & Under. Warm-ups at 2:15\, 2:30\, 2:45\, 3:00\, and 3:15 pm. Meet Starts at 3:45 pm
URL:https://suburbanswim.club/meet/time-trials-8-under-6/
LOCATION:Westminster Swim Club\, 3200 Heritage Dr\, Wilmington\, 19808\, United States
CATEGORIES:Time Trial
END:VEVENT
BEGIN:VEVENT
DTSTART;TZID=America/New_York:20250712T090000
DTEND;TZID=America/New_York:20250712T120000
DTSTAMP:20260423T121341
CREATED:20250508T205531Z
LAST-MODIFIED:20250508T205531Z
UID:3778-1752310800-1752321600@suburbanswim.club
SUMMARY:Arundel-Oakwood Valley
DESCRIPTION:Blue Division Dual Meet: Meet 9
URL:https://suburbanswim.club/meet/arundel-oakwood-valley/
LOCATION:Arundel Swim Club\, 1279 Elderon Drive\, Wilmington\, 19808\, United States
CATEGORIES:Dual Meet
END:VEVENT
BEGIN:VEVENT
DTSTART;TZID=America/New_York:20250712T090000
DTEND;TZID=America/New_York:20250712T120000
DTSTAMP:20260423T121341
CREATED:20250508T205530Z
LAST-MODIFIED:20250508T205530Z
UID:3776-1752310800-1752321600@suburbanswim.club
SUMMARY:Fairfield-Maple Valley
DESCRIPTION:Blue Division Dual Meet: Meet 9
URL:https://suburbanswim.club/meet/fairfield-maple-valley-2/
LOCATION:Fairfield Crest Swim Club\, 1 Fremont Road\, Newark\, 19711\, United States
CATEGORIES:Dual Meet
END:VEVENT
BEGIN:VEVENT
DTSTART;TZID=America/New_York:20250712T090000
DTEND;TZID=America/New_York:20250712T120000
DTSTAMP:20260423T121341
CREATED:20250508T205530Z
LAST-MODIFIED:20250508T205530Z
UID:3777-1752310800-1752321600@suburbanswim.club
SUMMARY:Sherwood Park-Crestmoor
DESCRIPTION:Blue Division Dual Meet: Meet 9
URL:https://suburbanswim.club/meet/sherwood-park-crestmoor-2/
LOCATION:Sherwood Park Swim Club\, 1105 Highgate Rd\, Wilmington\, 19808\, United States
CATEGORIES:Dual Meet
END:VEVENT
BEGIN:VEVENT
DTSTART;TZID=America/New_York:20250712T090000
DTEND;TZID=America/New_York:20250712T120000
DTSTAMP:20260423T121341
CREATED:20250508T205529Z
LAST-MODIFIED:20250508T205529Z
UID:3775-1752310800-1752321600@suburbanswim.club
SUMMARY:Persimmon Creek-Skyline
DESCRIPTION:Blue Division Dual Meet: Meet 9
URL:https://suburbanswim.club/meet/persimmon-creek-skyline/
LOCATION:Persimmon Creek Swim Club\, 428 Arbour Dr\, Newark\, 19713\, United States
CATEGORIES:Dual Meet
END:VEVENT
BEGIN:VEVENT
DTSTART;TZID=America/New_York:20250712T090000
DTEND;TZID=America/New_York:20250712T120000
DTSTAMP:20260423T121341
CREATED:20250508T205330Z
LAST-MODIFIED:20250508T205330Z
UID:3774-1752310800-1752321600@suburbanswim.club
SUMMARY:Westminster-Oaklands
DESCRIPTION:Red Division Dual Meet: Meet 9
URL:https://suburbanswim.club/meet/westminster-oaklands-2/
LOCATION:Westminster Swim Club\, 3200 Heritage Dr\, Wilmington\, 19808\, United States
CATEGORIES:Dual Meet
END:VEVENT
BEGIN:VEVENT
DTSTART;TZID=America/New_York:20250712T090000
DTEND;TZID=America/New_York:20250712T120000
DTSTAMP:20260423T121341
CREATED:20250508T205330Z
LAST-MODIFIED:20250508T205330Z
UID:3773-1752310800-1752321600@suburbanswim.club
SUMMARY:North Star-Nottingham
DESCRIPTION:Red Division Dual Meet: Meet 9
URL:https://suburbanswim.club/meet/north-star-nottingham/
LOCATION:North Star Swim Club\, 100 Saturn Dr\, Newark\, DE\, 19711\, United States
CATEGORIES:Dual Meet
END:VEVENT
BEGIN:VEVENT
DTSTART;TZID=America/New_York:20250712T090000
DTEND;TZID=America/New_York:20250712T120000
DTSTAMP:20260423T121341
CREATED:20250508T205329Z
LAST-MODIFIED:20250508T205329Z
UID:3771-1752310800-1752321600@suburbanswim.club
SUMMARY:Drummond Hill-Western Y
DESCRIPTION:Red Division Dual Meet: Meet 9
URL:https://suburbanswim.club/meet/drummond-hill-western-y/
LOCATION:Drummond Hill Swim Club\, 79 Alton Road\, Newark\, 19711\, United States
CATEGORIES:Dual Meet
END:VEVENT
BEGIN:VEVENT
DTSTART;TZID=America/New_York:20250712T090000
DTEND;TZID=America/New_York:20250712T120000
DTSTAMP:20260423T121341
CREATED:20250508T205329Z
LAST-MODIFIED:20250508T205329Z
UID:3772-1752310800-1752321600@suburbanswim.club
SUMMARY:Yorklyn-Wedgewood
DESCRIPTION:Red Division Dual Meet: Meet 9
URL:https://suburbanswim.club/meet/yorklyn-wedgewood-2/
LOCATION:Yorklyn Swim Club\, 389 Lower Snuff Mill Road\, Hockessin\, 19707\, United States
CATEGORIES:Dual Meet
END:VEVENT
BEGIN:VEVENT
DTSTART;TZID=America/New_York:20250709T180000
DTEND;TZID=America/New_York:20250709T210000
DTSTAMP:20260423T121341
CREATED:20250508T205328Z
LAST-MODIFIED:20250508T205328Z
UID:3770-1752084000-1752094800@suburbanswim.club
SUMMARY:Penn Acres-Arundel
DESCRIPTION:Blue Division Dual Meet: Meet 8
URL:https://suburbanswim.club/meet/penn-acres-arundel-2/
LOCATION:Penn Acres Swim Club\, 30 Fithian Dr\, Wilmington Manor\, 19720\, United States
CATEGORIES:Dual Meet
END:VEVENT
BEGIN:VEVENT
DTSTART;TZID=America/New_York:20250709T180000
DTEND;TZID=America/New_York:20250709T210000
DTSTAMP:20260423T121341
CREATED:20250508T205129Z
LAST-MODIFIED:20250508T205129Z
UID:3769-1752084000-1752094800@suburbanswim.club
SUMMARY:Oakwood Valley-Crestmoor
DESCRIPTION:Blue Division Dual Meet: Meet 8
URL:https://suburbanswim.club/meet/oakwood-valley-crestmoor-2/
LOCATION:Oakwood Valley Club\, 4909 Kirkwood Hwy\, Wilmington\, 19808\, United States
CATEGORIES:Dual Meet
END:VEVENT
BEGIN:VEVENT
DTSTART;TZID=America/New_York:20250709T180000
DTEND;TZID=America/New_York:20250709T210000
DTSTAMP:20260423T121341
CREATED:20250508T205128Z
LAST-MODIFIED:20250508T205128Z
UID:3766-1752084000-1752094800@suburbanswim.club
SUMMARY:Westminster-Drummond Hill
DESCRIPTION:Red Division Dual Meet: Meet 8
URL:https://suburbanswim.club/meet/westminster-drummond-hill-2/
LOCATION:Westminster Swim Club\, 3200 Heritage Dr\, Wilmington\, 19808\, United States
CATEGORIES:Dual Meet
END:VEVENT
BEGIN:VEVENT
DTSTART;TZID=America/New_York:20250709T180000
DTEND;TZID=America/New_York:20250709T210000
DTSTAMP:20260423T121341
CREATED:20250508T205128Z
LAST-MODIFIED:20250508T205128Z
UID:3767-1752084000-1752094800@suburbanswim.club
SUMMARY:Fairfield-Skyline
DESCRIPTION:Blue Division Dual Meet: Meet 8
URL:https://suburbanswim.club/meet/fairfield-skyline/
LOCATION:Fairfield Crest Swim Club\, 1 Fremont Road\, Newark\, 19711\, United States
CATEGORIES:Dual Meet
END:VEVENT
BEGIN:VEVENT
DTSTART;TZID=America/New_York:20250709T180000
DTEND;TZID=America/New_York:20250709T210000
DTSTAMP:20260423T121341
CREATED:20250508T205128Z
LAST-MODIFIED:20250508T205128Z
UID:3768-1752084000-1752094800@suburbanswim.club
SUMMARY:Maple Valley-Persimmon Creek
DESCRIPTION:Blue Division Dual Meet: Meet 8
URL:https://suburbanswim.club/meet/maple-valley-persimmon-creek-2/
LOCATION:Maple Valley Swim Club\, Old Possum Park Road\, Newark\, 19711\, United States
CATEGORIES:Dual Meet
END:VEVENT
BEGIN:VEVENT
DTSTART;TZID=America/New_York:20250709T180000
DTEND;TZID=America/New_York:20250709T210000
DTSTAMP:20260423T121341
CREATED:20250508T205127Z
LAST-MODIFIED:20250508T205127Z
UID:3765-1752084000-1752094800@suburbanswim.club
SUMMARY:Oaklands-Nottingham
DESCRIPTION:Red Division Dual Meet: Meet 8
URL:https://suburbanswim.club/meet/oaklands-nottingham/
LOCATION:Oaklands Swim Club\, 301 Hillside Rd\, Newark\, 19717\, United States
CATEGORIES:Dual Meet
END:VEVENT
BEGIN:VEVENT
DTSTART;TZID=America/New_York:20250709T180000
DTEND;TZID=America/New_York:20250709T210000
DTSTAMP:20260423T121341
CREATED:20250508T204928Z
LAST-MODIFIED:20250508T204928Z
UID:3764-1752084000-1752094800@suburbanswim.club
SUMMARY:Wedgewood-North Star
DESCRIPTION:Red Division Dual Meet: Meet 8
URL:https://suburbanswim.club/meet/wedgewood-north-star-2/
LOCATION:Wedgewood Swim Club\, 2A Wedgefield Dr\, New Castle\, DE\, 19720\, United States
CATEGORIES:Dual Meet
END:VEVENT
BEGIN:VEVENT
DTSTART;TZID=America/New_York:20250709T180000
DTEND;TZID=America/New_York:20250709T210000
DTSTAMP:20260423T121341
CREATED:20250508T204927Z
LAST-MODIFIED:20250508T204927Z
UID:3763-1752084000-1752094800@suburbanswim.club
SUMMARY:Western Y-Yorklyn
DESCRIPTION:Red Division Dual Meet: Meet 8
URL:https://suburbanswim.club/meet/western-y-yorklyn-2/
LOCATION:Western Family YMCA\, 2600 Capitol Trail\, Newark\, DE\, 19711\, United States
CATEGORIES:Dual Meet
END:VEVENT
BEGIN:VEVENT
DTSTART;TZID=America/New_York:20250702T180000
DTEND;TZID=America/New_York:20250702T210000
DTSTAMP:20260423T121341
CREATED:20250508T204927Z
LAST-MODIFIED:20250508T204927Z
UID:3761-1751479200-1751490000@suburbanswim.club
SUMMARY:Fairfield-Penn Acres
DESCRIPTION:Blue Division Dual Meet: Meet 7
URL:https://suburbanswim.club/meet/fairfield-penn-acres-2/
LOCATION:Fairfield Crest Swim Club\, 1 Fremont Road\, Newark\, 19711\, United States
CATEGORIES:Dual Meet
END:VEVENT
BEGIN:VEVENT
DTSTART;TZID=America/New_York:20250702T180000
DTEND;TZID=America/New_York:20250702T210000
DTSTAMP:20260423T121341
CREATED:20250508T204927Z
LAST-MODIFIED:20250508T204927Z
UID:3762-1751479200-1751490000@suburbanswim.club
SUMMARY:Oakwood Valley-Sherwood Park
DESCRIPTION:Blue Division Dual Meet: Meet 7
URL:https://suburbanswim.club/meet/oakwood-valley-sherwood-park-2/
LOCATION:Oakwood Valley Club\, 4909 Kirkwood Hwy\, Wilmington\, 19808\, United States
CATEGORIES:Dual Meet
END:VEVENT
BEGIN:VEVENT
DTSTART;TZID=America/New_York:20250702T180000
DTEND;TZID=America/New_York:20250702T210000
DTSTAMP:20260423T121341
CREATED:20250508T204926Z
LAST-MODIFIED:20250508T204926Z
UID:3760-1751479200-1751490000@suburbanswim.club
SUMMARY:Arundel-Persimmon Creek
DESCRIPTION:Blue Division Dual Meet: Meet 7
URL:https://suburbanswim.club/meet/arundel-persimmon-creek-3/
LOCATION:Arundel Swim Club\, 1279 Elderon Drive\, Wilmington\, 19808\, United States
CATEGORIES:Dual Meet
END:VEVENT
BEGIN:VEVENT
DTSTART;TZID=America/New_York:20250702T180000
DTEND;TZID=America/New_York:20250702T210000
DTSTAMP:20260423T121341
CREATED:20250508T204726Z
LAST-MODIFIED:20250508T204726Z
UID:3759-1751479200-1751490000@suburbanswim.club
SUMMARY:Skyline-Crestmoor
DESCRIPTION:Blue Division Dual Meet: Meet 7
URL:https://suburbanswim.club/meet/skyline-crestmoor/
LOCATION:Skyline Swim Club\, 2901 Skyline Dr\, Wilmington\, DE\, 19808\, United States
CATEGORIES:Dual Meet
END:VEVENT
BEGIN:VEVENT
DTSTART;TZID=America/New_York:20250630T180000
DTEND;TZID=America/New_York:20250630T210000
DTSTAMP:20260423T121341
CREATED:20250508T204726Z
LAST-MODIFIED:20250508T204726Z
UID:3758-1751306400-1751317200@suburbanswim.club
SUMMARY:Crestmoor-Arundel
DESCRIPTION:Blue Division Dual Meet: Meet 6
URL:https://suburbanswim.club/meet/crestmoor-arundel-2/
LOCATION:Crestmoor Swim Club\, 640 W Summit Ave\, Wilmington\, 19804\, United States
CATEGORIES:Dual Meet
END:VEVENT
BEGIN:VEVENT
DTSTART;TZID=America/New_York:20250630T180000
DTEND;TZID=America/New_York:20250630T210000
DTSTAMP:20260423T121341
CREATED:20250508T204726Z
LAST-MODIFIED:20250508T204726Z
UID:3756-1751306400-1751317200@suburbanswim.club
SUMMARY:Persimmon Creek-Fairfield
DESCRIPTION:Blue Division Dual Meet: Meet 6
URL:https://suburbanswim.club/meet/persimmon-creek-fairfield-2/
LOCATION:Persimmon Creek Swim Club\, 428 Arbour Dr\, Newark\, 19713\, United States
CATEGORIES:Dual Meet
END:VEVENT
BEGIN:VEVENT
DTSTART;TZID=America/New_York:20250630T180000
DTEND;TZID=America/New_York:20250630T210000
DTSTAMP:20260423T121341
CREATED:20250508T204726Z
LAST-MODIFIED:20250508T204726Z
UID:3757-1751306400-1751317200@suburbanswim.club
SUMMARY:Sherwood Park-Penn Acres
DESCRIPTION:Blue Division Dual Meet: Meet 6
URL:https://suburbanswim.club/meet/sherwood-park-penn-acres-2/
LOCATION:Sherwood Park Swim Club\, 1105 Highgate Rd\, Wilmington\, 19808\, United States
CATEGORIES:Dual Meet
END:VEVENT
BEGIN:VEVENT
DTSTART;TZID=America/New_York:20250630T180000
DTEND;TZID=America/New_York:20250630T210000
DTSTAMP:20260423T121341
CREATED:20250508T204725Z
LAST-MODIFIED:20250508T204725Z
UID:3755-1751306400-1751317200@suburbanswim.club
SUMMARY:Skyline-Maple Valley
DESCRIPTION:Blue Division Dual Meet: Meet 6
URL:https://suburbanswim.club/meet/skyline-maple-valley/
LOCATION:Skyline Swim Club\, 2901 Skyline Dr\, Wilmington\, DE\, 19808\, United States
CATEGORIES:Dual Meet
END:VEVENT
BEGIN:VEVENT
DTSTART;TZID=America/New_York:20250629T190000
DTEND;TZID=America/New_York:20250629T203000
DTSTAMP:20260423T121341
CREATED:20250528T020005Z
LAST-MODIFIED:20250528T020008Z
UID:4180-1751223600-1751229000@suburbanswim.club
SUMMARY:SSL End of Regular Season Meeting - June
DESCRIPTION:March Meeting Date
URL:https://suburbanswim.club/meet/ssl-end-of-regular-season-meeting-june/
LOCATION:Drummond Hill Swim Club\, 79 Alton Road\, Newark\, 19711\, United States
CATEGORIES:Meeting,SSL Rep
END:VEVENT
END:VCALENDAR