BEGIN:VCALENDAR
VERSION:2.0
PRODID:-//Suburban Swim League - ECPv6.15.20//NONSGML v1.0//EN
CALSCALE:GREGORIAN
METHOD:PUBLISH
X-ORIGINAL-URL:https://suburbanswim.club
X-WR-CALDESC:Events for Suburban Swim League
REFRESH-INTERVAL;VALUE=DURATION:PT1H
X-Robots-Tag:noindex
X-PUBLISHED-TTL:PT1H
BEGIN:VTIMEZONE
TZID:America/New_York
BEGIN:DAYLIGHT
TZOFFSETFROM:-0500
TZOFFSETTO:-0400
TZNAME:EDT
DTSTART:20230312T070000
END:DAYLIGHT
BEGIN:STANDARD
TZOFFSETFROM:-0400
TZOFFSETTO:-0500
TZNAME:EST
DTSTART:20231105T060000
END:STANDARD
BEGIN:DAYLIGHT
TZOFFSETFROM:-0500
TZOFFSETTO:-0400
TZNAME:EDT
DTSTART:20240310T070000
END:DAYLIGHT
BEGIN:STANDARD
TZOFFSETFROM:-0400
TZOFFSETTO:-0500
TZNAME:EST
DTSTART:20241103T060000
END:STANDARD
BEGIN:DAYLIGHT
TZOFFSETFROM:-0500
TZOFFSETTO:-0400
TZNAME:EDT
DTSTART:20250309T070000
END:DAYLIGHT
BEGIN:STANDARD
TZOFFSETFROM:-0400
TZOFFSETTO:-0500
TZNAME:EST
DTSTART:20251102T060000
END:STANDARD
BEGIN:DAYLIGHT
TZOFFSETFROM:-0500
TZOFFSETTO:-0400
TZNAME:EDT
DTSTART:20260308T070000
END:DAYLIGHT
BEGIN:STANDARD
TZOFFSETFROM:-0400
TZOFFSETTO:-0500
TZNAME:EST
DTSTART:20261101T060000
END:STANDARD
END:VTIMEZONE
BEGIN:VEVENT
DTSTART;TZID=America/New_York:20250614T090000
DTEND;TZID=America/New_York:20250614T120000
DTSTAMP:20260423T233303
CREATED:20250508T204434Z
LAST-MODIFIED:20250508T204434Z
UID:3718-1749891600-1749902400@suburbanswim.club
SUMMARY:Yorklyn-Westminster
DESCRIPTION:Red Division Dual Meet: Meet 1
URL:https://suburbanswim.club/meet/yorklyn-westminster-2/
LOCATION:Yorklyn Swim Club\, 389 Lower Snuff Mill Road\, Hockessin\, 19707\, United States
CATEGORIES:Dual Meet
END:VEVENT
BEGIN:VEVENT
DTSTART;TZID=America/New_York:20250614T090000
DTEND;TZID=America/New_York:20250614T120000
DTSTAMP:20260423T233303
CREATED:20250508T204434Z
LAST-MODIFIED:20250508T204434Z
UID:3719-1749891600-1749902400@suburbanswim.club
SUMMARY:Skyline-Sherwood Park
DESCRIPTION:Blue Division Dual Meet: Meet 1
URL:https://suburbanswim.club/meet/skyline-sherwood-park/
LOCATION:Skyline Swim Club\, 2901 Skyline Dr\, Wilmington\, DE\, 19808\, United States
CATEGORIES:Dual Meet
END:VEVENT
BEGIN:VEVENT
DTSTART;TZID=America/New_York:20250614T090000
DTEND;TZID=America/New_York:20250614T120000
DTSTAMP:20260423T233303
CREATED:20250508T204433Z
LAST-MODIFIED:20250508T204433Z
UID:3715-1749891600-1749902400@suburbanswim.club
SUMMARY:North Star-Western Y
DESCRIPTION:Red Division Dual Meet: Meet 1
URL:https://suburbanswim.club/meet/north-star-western-y-2/
LOCATION:North Star Swim Club\, 100 Saturn Dr\, Newark\, DE\, 19711\, United States
CATEGORIES:Dual Meet
END:VEVENT
BEGIN:VEVENT
DTSTART;TZID=America/New_York:20250614T090000
DTEND;TZID=America/New_York:20250614T120000
DTSTAMP:20260423T233303
CREATED:20250508T204433Z
LAST-MODIFIED:20250508T204433Z
UID:3716-1749891600-1749902400@suburbanswim.club
SUMMARY:Oaklands-Wedgewood
DESCRIPTION:Red Division Dual Meet: Meet 1
URL:https://suburbanswim.club/meet/oaklands-wedgewood-2/
LOCATION:Oaklands Swim Club\, 301 Hillside Rd\, Newark\, 19717\, United States
CATEGORIES:Dual Meet
END:VEVENT
BEGIN:VEVENT
DTSTART;TZID=America/New_York:20240713T090000
DTEND;TZID=America/New_York:20240713T120000
DTSTAMP:20260423T233303
CREATED:20240509T031603Z
LAST-MODIFIED:20240510T043243Z
UID:3103-1720861200-1720872000@suburbanswim.club
SUMMARY:Persimmon Creek-Crestmoor
DESCRIPTION:Blue Division Dual Meet: Meet 8
URL:https://suburbanswim.club/meet/persimmon-creek-crestmoor/
LOCATION:Persimmon Creek Swim Club\, 428 Arbour Dr\, Newark\, 19713\, United States
CATEGORIES:Dual Meet
END:VEVENT
BEGIN:VEVENT
DTSTART;TZID=America/New_York:20240713T090000
DTEND;TZID=America/New_York:20240713T120000
DTSTAMP:20260423T233303
CREATED:20240509T031603Z
LAST-MODIFIED:20240510T043243Z
UID:3104-1720861200-1720872000@suburbanswim.club
SUMMARY:Maple Valley-Sherwood Park
DESCRIPTION:Blue Division Dual Meet: Meet 8
URL:https://suburbanswim.club/meet/maple-valley-sherwood-park/
LOCATION:Maple Valley Swim Club\, Old Possum Park Road\, Newark\, 19711\, United States
CATEGORIES:Dual Meet
END:VEVENT
BEGIN:VEVENT
DTSTART;TZID=America/New_York:20240713T090000
DTEND;TZID=America/New_York:20240713T120000
DTSTAMP:20260423T233303
CREATED:20240509T031603Z
LAST-MODIFIED:20240510T043243Z
UID:3105-1720861200-1720872000@suburbanswim.club
SUMMARY:Oakwood Valley-Arundel
DESCRIPTION:Blue Division Dual Meet: Meet 8
URL:https://suburbanswim.club/meet/oakwood-valley-arundel/
LOCATION:Oakwood Valley Club\, 4909 Kirkwood Hwy\, Wilmington\, 19808\, United States
CATEGORIES:Dual Meet
END:VEVENT
BEGIN:VEVENT
DTSTART;TZID=America/New_York:20240713T090000
DTEND;TZID=America/New_York:20240713T120000
DTSTAMP:20260423T233303
CREATED:20240509T031602Z
LAST-MODIFIED:20240622T174600Z
UID:3101-1720861200-1720872000@suburbanswim.club
SUMMARY:Westminster-Yorklyn
DESCRIPTION:Red Division Dual Meet: Meet 8
URL:https://suburbanswim.club/meet/westminster-drummond-hill/
LOCATION:Westminster Swim Club\, 3200 Heritage Dr\, Wilmington\, 19808\, United States
CATEGORIES:Dual Meet
END:VEVENT
BEGIN:VEVENT
DTSTART;TZID=America/New_York:20240713T090000
DTEND;TZID=America/New_York:20240713T120000
DTSTAMP:20260423T233303
CREATED:20240509T031602Z
LAST-MODIFIED:20240510T043243Z
UID:3102-1720861200-1720872000@suburbanswim.club
SUMMARY:Skyline-Fairfield
DESCRIPTION:Blue Division Dual Meet: Meet 8
URL:https://suburbanswim.club/meet/skyline-fairfield/
LOCATION:Skyline Swim Club\, 2901 Skyline Dr\, Wilmington\, DE\, 19808\, United States
CATEGORIES:Dual Meet
END:VEVENT
BEGIN:VEVENT
DTSTART;TZID=America/New_York:20240713T090000
DTEND;TZID=America/New_York:20240713T120000
DTSTAMP:20260423T233303
CREATED:20240509T031547Z
LAST-MODIFIED:20240510T043218Z
UID:3098-1720861200-1720872000@suburbanswim.club
SUMMARY:Wedgewood-Western Y
DESCRIPTION:Red Division Dual Meet: Meet 8
URL:https://suburbanswim.club/meet/wedgewood-western-y/
LOCATION:Wedgewood Swim Club\, 2A Wedgefield Dr\, New Castle\, DE\, 19720\, United States
CATEGORIES:Dual Meet
END:VEVENT
BEGIN:VEVENT
DTSTART;TZID=America/New_York:20240713T090000
DTEND;TZID=America/New_York:20240713T120000
DTSTAMP:20260423T233303
CREATED:20240509T031547Z
LAST-MODIFIED:20240510T043218Z
UID:3099-1720861200-1720872000@suburbanswim.club
SUMMARY:Nottingham Green-Oaklands
DESCRIPTION:Red Division Dual Meet: Meet 8
URL:https://suburbanswim.club/meet/nottingham-green-oaklands/
LOCATION:Nottingham Swim Club\, 200 Radcliffe Dr\, Newark\, DE\, 19711\, United States
CATEGORIES:Dual Meet
END:VEVENT
BEGIN:VEVENT
DTSTART;TZID=America/New_York:20240713T090000
DTEND;TZID=America/New_York:20240713T120000
DTSTAMP:20260423T233303
CREATED:20240509T031547Z
LAST-MODIFIED:20240622T174549Z
UID:3100-1720861200-1720872000@suburbanswim.club
SUMMARY:North Star-Drummond Hill
DESCRIPTION:Red Division Dual Meet: Meet 8
URL:https://suburbanswim.club/meet/north-star-yorklyn-2/
LOCATION:North Star Swim Club\, 100 Saturn Dr\, Newark\, DE\, 19711\, United States
CATEGORIES:Dual Meet
END:VEVENT
BEGIN:VEVENT
DTSTART;TZID=America/New_York:20240710T180000
DTEND;TZID=America/New_York:20240710T210000
DTSTAMP:20260423T233303
CREATED:20240509T031547Z
LAST-MODIFIED:20240510T043218Z
UID:3097-1720634400-1720645200@suburbanswim.club
SUMMARY:Crestmoor-Oakwood Valley
DESCRIPTION:Blue Division Dual Meet: Meet 7
URL:https://suburbanswim.club/meet/crestmoor-oakwood-valley/
LOCATION:Crestmoor Swim Club\, 640 W Summit Ave\, Wilmington\, 19804\, United States
CATEGORIES:Dual Meet
END:VEVENT
BEGIN:VEVENT
DTSTART;TZID=America/New_York:20240710T180000
DTEND;TZID=America/New_York:20240710T210000
DTSTAMP:20260423T233303
CREATED:20240509T031546Z
LAST-MODIFIED:20240510T043218Z
UID:3096-1720634400-1720645200@suburbanswim.club
SUMMARY:Sherwood Park-Arundel
DESCRIPTION:Blue Division Dual Meet: Meet 7
URL:https://suburbanswim.club/meet/sherwood-park-arundel/
LOCATION:Sherwood Park Swim Club\, 1105 Highgate Rd\, Wilmington\, 19808\, United States
CATEGORIES:Dual Meet
END:VEVENT
BEGIN:VEVENT
DTSTART;TZID=America/New_York:20240710T180000
DTEND;TZID=America/New_York:20240710T210000
DTSTAMP:20260423T233303
CREATED:20240509T031511Z
LAST-MODIFIED:20240510T043203Z
UID:3092-1720634400-1720645200@suburbanswim.club
SUMMARY:Oaklands-North Star
DESCRIPTION:Red Division Dual Meet: Meet 7
URL:https://suburbanswim.club/meet/oaklands-north-star/
LOCATION:Oaklands Swim Club\, 301 Hillside Rd\, Newark\, 19717\, United States
CATEGORIES:Dual Meet
END:VEVENT
BEGIN:VEVENT
DTSTART;TZID=America/New_York:20240710T180000
DTEND;TZID=America/New_York:20240710T210000
DTSTAMP:20260423T233303
CREATED:20240509T031511Z
LAST-MODIFIED:20240510T043204Z
UID:3093-1720634400-1720645200@suburbanswim.club
SUMMARY:Yorklyn-Drummond Hill
DESCRIPTION:Red Division Dual Meet: Meet 7
URL:https://suburbanswim.club/meet/yorklyn-drummond-hill/
LOCATION:Yorklyn Swim Club\, 389 Lower Snuff Mill Road\, Hockessin\, 19707\, United States
CATEGORIES:Dual Meet
END:VEVENT
BEGIN:VEVENT
DTSTART;TZID=America/New_York:20240710T180000
DTEND;TZID=America/New_York:20240710T210000
DTSTAMP:20260423T233303
CREATED:20240509T031511Z
LAST-MODIFIED:20240510T043204Z
UID:3094-1720634400-1720645200@suburbanswim.club
SUMMARY:Skyline-Persimmon Creek
DESCRIPTION:Blue Division Dual Meet: Meet 7
URL:https://suburbanswim.club/meet/skyline-persimmon-creek/
LOCATION:Skyline Swim Club\, 2901 Skyline Dr\, Wilmington\, DE\, 19808\, United States
CATEGORIES:Dual Meet
END:VEVENT
BEGIN:VEVENT
DTSTART;TZID=America/New_York:20240710T180000
DTEND;TZID=America/New_York:20240710T210000
DTSTAMP:20260423T233303
CREATED:20240509T031511Z
LAST-MODIFIED:20240510T043204Z
UID:3095-1720634400-1720645200@suburbanswim.club
SUMMARY:Penn Acres-Fairfield
DESCRIPTION:Blue Division Dual Meet: Meet 7
URL:https://suburbanswim.club/meet/penn-acres-fairfield/
LOCATION:Penn Acres Swim Club\, 30 Fithian Dr\, Wilmington Manor\, 19720\, United States
CATEGORIES:Dual Meet
END:VEVENT
BEGIN:VEVENT
DTSTART;TZID=America/New_York:20240710T180000
DTEND;TZID=America/New_York:20240710T210000
DTSTAMP:20260423T233303
CREATED:20240509T031510Z
LAST-MODIFIED:20240510T043203Z
UID:3091-1720634400-1720645200@suburbanswim.club
SUMMARY:Nottingham Green-Wedgewood
DESCRIPTION:Red Division Dual Meet: Meet 7
URL:https://suburbanswim.club/meet/nottingham-green-wedgewood/
LOCATION:Nottingham Swim Club\, 200 Radcliffe Dr\, Newark\, DE\, 19711\, United States
CATEGORIES:Dual Meet
END:VEVENT
BEGIN:VEVENT
DTSTART;TZID=America/New_York:20240710T180000
DTEND;TZID=America/New_York:20240710T210000
DTSTAMP:20260423T233303
CREATED:20240509T031458Z
LAST-MODIFIED:20240510T043149Z
UID:3090-1720634400-1720645200@suburbanswim.club
SUMMARY:Westminster-Western Y
DESCRIPTION:Red Division Dual Meet: Meet 7
URL:https://suburbanswim.club/meet/westminster-western-y/
LOCATION:Westminster Swim Club\, 3200 Heritage Dr\, Wilmington\, 19808\, United States
CATEGORIES:Dual Meet
END:VEVENT
BEGIN:VEVENT
DTSTART;TZID=America/New_York:20240708T180000
DTEND;TZID=America/New_York:20240708T210000
DTSTAMP:20260423T233303
CREATED:20240513T141858Z
LAST-MODIFIED:20240619T023517Z
UID:3326-1720461600-1720472400@suburbanswim.club
SUMMARY:Crestmoor-Penn Acres
DESCRIPTION:Blue Division Dual Meet: Meet 9
URL:https://suburbanswim.club/meet/crestmoor-penn-acres/
LOCATION:Crestmoor Swim Club\, 640 W Summit Ave\, Wilmington\, 19804\, United States
CATEGORIES:Dual Meet
END:VEVENT
BEGIN:VEVENT
DTSTART;TZID=America/New_York:20240702T180000
DTEND;TZID=America/New_York:20240702T210000
DTSTAMP:20260423T233303
CREATED:20240509T031458Z
LAST-MODIFIED:20240510T043148Z
UID:3087-1719943200-1719954000@suburbanswim.club
SUMMARY:Arundel-Persimmon Creek
DESCRIPTION:Blue Division Dual Meet: Meet 6
URL:https://suburbanswim.club/meet/arundel-persimmon-creek-2/
LOCATION:Arundel Swim Club\, 1279 Elderon Drive\, Wilmington\, 19808\, United States
CATEGORIES:Dual Meet
END:VEVENT
BEGIN:VEVENT
DTSTART;TZID=America/New_York:20240702T180000
DTEND;TZID=America/New_York:20240702T210000
DTSTAMP:20260423T233303
CREATED:20240509T031458Z
LAST-MODIFIED:20240510T043148Z
UID:3088-1719943200-1719954000@suburbanswim.club
SUMMARY:Fairfield-Sherwood Park
DESCRIPTION:Blue Division Dual Meet: Meet 6
URL:https://suburbanswim.club/meet/fairfield-sherwood-park/
LOCATION:Fairfield Crest Swim Club\, 1 Fremont Road\, Newark\, 19711\, United States
CATEGORIES:Dual Meet
END:VEVENT
BEGIN:VEVENT
DTSTART;TZID=America/New_York:20240702T180000
DTEND;TZID=America/New_York:20240702T210000
DTSTAMP:20260423T233303
CREATED:20240509T031458Z
LAST-MODIFIED:20240510T043148Z
UID:3089-1719943200-1719954000@suburbanswim.club
SUMMARY:Penn Acres-Maple Valley
DESCRIPTION:Blue Division Dual Meet: Meet 6
URL:https://suburbanswim.club/meet/penn-acres-maple-valley/
LOCATION:Penn Acres Swim Club\, 30 Fithian Dr\, Wilmington Manor\, 19720\, United States
CATEGORIES:Dual Meet
END:VEVENT
BEGIN:VEVENT
DTSTART;TZID=America/New_York:20240702T180000
DTEND;TZID=America/New_York:20240702T210000
DTSTAMP:20260423T233303
CREATED:20240509T031457Z
LAST-MODIFIED:20240510T043148Z
UID:3086-1719943200-1719954000@suburbanswim.club
SUMMARY:Oakwood Valley-Skyline
DESCRIPTION:Blue Division Dual Meet: Meet 6
URL:https://suburbanswim.club/meet/oakwood-valley-skyline/
LOCATION:Oakwood Valley Club\, 4909 Kirkwood Hwy\, Wilmington\, 19808\, United States
CATEGORIES:Dual Meet
END:VEVENT
BEGIN:VEVENT
DTSTART;TZID=America/New_York:20240629T090000
DTEND;TZID=America/New_York:20240629T120000
DTSTAMP:20260423T233303
CREATED:20240509T031416Z
LAST-MODIFIED:20240510T043139Z
UID:3083-1719651600-1719662400@suburbanswim.club
SUMMARY:Crestmoor-Sherwood Park
DESCRIPTION:Blue Division Dual Meet: Meet 5
URL:https://suburbanswim.club/meet/crestmoor-sherwood-park/
LOCATION:Crestmoor Swim Club\, 640 W Summit Ave\, Wilmington\, 19804\, United States
CATEGORIES:Dual Meet
END:VEVENT
BEGIN:VEVENT
DTSTART;TZID=America/New_York:20240629T090000
DTEND;TZID=America/New_York:20240629T120000
DTSTAMP:20260423T233303
CREATED:20240509T031416Z
LAST-MODIFIED:20240510T043139Z
UID:3084-1719651600-1719662400@suburbanswim.club
SUMMARY:Maple Valley-Arundel
DESCRIPTION:Blue Division Dual Meet: Meet 5
URL:https://suburbanswim.club/meet/maple-valley-arundel-2/
LOCATION:Maple Valley Swim Club\, Old Possum Park Road\, Newark\, 19711\, United States
CATEGORIES:Dual Meet
END:VEVENT
BEGIN:VEVENT
DTSTART;TZID=America/New_York:20240629T090000
DTEND;TZID=America/New_York:20240629T120000
DTSTAMP:20260423T233303
CREATED:20240509T031416Z
LAST-MODIFIED:20240510T043139Z
UID:3085-1719651600-1719662400@suburbanswim.club
SUMMARY:Penn Acres-Oakwood Valley
DESCRIPTION:Blue Division Dual Meet: Meet 5
URL:https://suburbanswim.club/meet/penn-acres-oakwood-valley/
LOCATION:Penn Acres Swim Club\, 30 Fithian Dr\, Wilmington Manor\, 19720\, United States
CATEGORIES:Dual Meet
END:VEVENT
BEGIN:VEVENT
DTSTART;TZID=America/New_York:20240629T090000
DTEND;TZID=America/New_York:20240629T120000
DTSTAMP:20260423T233303
CREATED:20240509T031415Z
LAST-MODIFIED:20240510T043139Z
UID:3082-1719651600-1719662400@suburbanswim.club
SUMMARY:Fairfield-Persimmon Creek
DESCRIPTION:Blue Division Dual Meet: Meet 5
URL:https://suburbanswim.club/meet/fairfield-persimmon-creek/
LOCATION:Fairfield Crest Swim Club\, 1 Fremont Road\, Newark\, 19711\, United States
CATEGORIES:Dual Meet
END:VEVENT
BEGIN:VEVENT
DTSTART;TZID=America/New_York:20240629T090000
DTEND;TZID=America/New_York:20240629T120000
DTSTAMP:20260423T233303
CREATED:20240509T031415Z
LAST-MODIFIED:20240510T043139Z
UID:3081-1719651600-1719662400@suburbanswim.club
SUMMARY:Oaklands-Westminster
DESCRIPTION:Red Division Dual Meet: Meet 5
URL:https://suburbanswim.club/meet/oaklands-westminster/
LOCATION:Oaklands Swim Club\, 301 Hillside Rd\, Newark\, 19717\, United States
CATEGORIES:Dual Meet
END:VEVENT
END:VCALENDAR