BEGIN:VCALENDAR
VERSION:2.0
PRODID:-//Suburban Swim League - ECPv6.15.20//NONSGML v1.0//EN
CALSCALE:GREGORIAN
METHOD:PUBLISH
X-ORIGINAL-URL:https://suburbanswim.club
X-WR-CALDESC:Events for Suburban Swim League
REFRESH-INTERVAL;VALUE=DURATION:PT1H
X-Robots-Tag:noindex
X-PUBLISHED-TTL:PT1H
BEGIN:VTIMEZONE
TZID:America/New_York
BEGIN:DAYLIGHT
TZOFFSETFROM:-0500
TZOFFSETTO:-0400
TZNAME:EDT
DTSTART:20240310T070000
END:DAYLIGHT
BEGIN:STANDARD
TZOFFSETFROM:-0400
TZOFFSETTO:-0500
TZNAME:EST
DTSTART:20241103T060000
END:STANDARD
BEGIN:DAYLIGHT
TZOFFSETFROM:-0500
TZOFFSETTO:-0400
TZNAME:EDT
DTSTART:20250309T070000
END:DAYLIGHT
BEGIN:STANDARD
TZOFFSETFROM:-0400
TZOFFSETTO:-0500
TZNAME:EST
DTSTART:20251102T060000
END:STANDARD
BEGIN:DAYLIGHT
TZOFFSETFROM:-0500
TZOFFSETTO:-0400
TZNAME:EDT
DTSTART:20260308T070000
END:DAYLIGHT
BEGIN:STANDARD
TZOFFSETFROM:-0400
TZOFFSETTO:-0500
TZNAME:EST
DTSTART:20261101T060000
END:STANDARD
END:VTIMEZONE
BEGIN:VEVENT
DTSTART;TZID=America/New_York:20250709T180000
DTEND;TZID=America/New_York:20250709T210000
DTSTAMP:20260423T174019
CREATED:20250508T205128Z
LAST-MODIFIED:20250508T205128Z
UID:3767-1752084000-1752094800@suburbanswim.club
SUMMARY:Fairfield-Skyline
DESCRIPTION:Blue Division Dual Meet: Meet 8
URL:https://suburbanswim.club/meet/fairfield-skyline/
LOCATION:Fairfield Crest Swim Club\, 1 Fremont Road\, Newark\, 19711\, United States
CATEGORIES:Dual Meet
END:VEVENT
BEGIN:VEVENT
DTSTART;TZID=America/New_York:20250709T180000
DTEND;TZID=America/New_York:20250709T210000
DTSTAMP:20260423T174019
CREATED:20250508T205127Z
LAST-MODIFIED:20250508T205127Z
UID:3765-1752084000-1752094800@suburbanswim.club
SUMMARY:Oaklands-Nottingham
DESCRIPTION:Red Division Dual Meet: Meet 8
URL:https://suburbanswim.club/meet/oaklands-nottingham/
LOCATION:Oaklands Swim Club\, 301 Hillside Rd\, Newark\, 19717\, United States
CATEGORIES:Dual Meet
END:VEVENT
BEGIN:VEVENT
DTSTART;TZID=America/New_York:20250709T180000
DTEND;TZID=America/New_York:20250709T210000
DTSTAMP:20260423T174019
CREATED:20250508T204928Z
LAST-MODIFIED:20250508T204928Z
UID:3764-1752084000-1752094800@suburbanswim.club
SUMMARY:Wedgewood-North Star
DESCRIPTION:Red Division Dual Meet: Meet 8
URL:https://suburbanswim.club/meet/wedgewood-north-star-2/
LOCATION:Wedgewood Swim Club\, 2A Wedgefield Dr\, New Castle\, DE\, 19720\, United States
CATEGORIES:Dual Meet
END:VEVENT
BEGIN:VEVENT
DTSTART;TZID=America/New_York:20250709T180000
DTEND;TZID=America/New_York:20250709T210000
DTSTAMP:20260423T174019
CREATED:20250508T204927Z
LAST-MODIFIED:20250508T204927Z
UID:3763-1752084000-1752094800@suburbanswim.club
SUMMARY:Western Y-Yorklyn
DESCRIPTION:Red Division Dual Meet: Meet 8
URL:https://suburbanswim.club/meet/western-y-yorklyn-2/
LOCATION:Western Family YMCA\, 2600 Capitol Trail\, Newark\, DE\, 19711\, United States
CATEGORIES:Dual Meet
END:VEVENT
BEGIN:VEVENT
DTSTART;TZID=America/New_York:20250702T180000
DTEND;TZID=America/New_York:20250702T210000
DTSTAMP:20260423T174019
CREATED:20250508T204927Z
LAST-MODIFIED:20250508T204927Z
UID:3762-1751479200-1751490000@suburbanswim.club
SUMMARY:Oakwood Valley-Sherwood Park
DESCRIPTION:Blue Division Dual Meet: Meet 7
URL:https://suburbanswim.club/meet/oakwood-valley-sherwood-park-2/
LOCATION:Oakwood Valley Club\, 4909 Kirkwood Hwy\, Wilmington\, 19808\, United States
CATEGORIES:Dual Meet
END:VEVENT
BEGIN:VEVENT
DTSTART;TZID=America/New_York:20250702T180000
DTEND;TZID=America/New_York:20250702T210000
DTSTAMP:20260423T174019
CREATED:20250508T204927Z
LAST-MODIFIED:20250508T204927Z
UID:3761-1751479200-1751490000@suburbanswim.club
SUMMARY:Fairfield-Penn Acres
DESCRIPTION:Blue Division Dual Meet: Meet 7
URL:https://suburbanswim.club/meet/fairfield-penn-acres-2/
LOCATION:Fairfield Crest Swim Club\, 1 Fremont Road\, Newark\, 19711\, United States
CATEGORIES:Dual Meet
END:VEVENT
BEGIN:VEVENT
DTSTART;TZID=America/New_York:20250702T180000
DTEND;TZID=America/New_York:20250702T210000
DTSTAMP:20260423T174019
CREATED:20250508T204926Z
LAST-MODIFIED:20250508T204926Z
UID:3760-1751479200-1751490000@suburbanswim.club
SUMMARY:Arundel-Persimmon Creek
DESCRIPTION:Blue Division Dual Meet: Meet 7
URL:https://suburbanswim.club/meet/arundel-persimmon-creek-3/
LOCATION:Arundel Swim Club\, 1279 Elderon Drive\, Wilmington\, 19808\, United States
CATEGORIES:Dual Meet
END:VEVENT
BEGIN:VEVENT
DTSTART;TZID=America/New_York:20250702T180000
DTEND;TZID=America/New_York:20250702T210000
DTSTAMP:20260423T174019
CREATED:20250508T204726Z
LAST-MODIFIED:20250508T204726Z
UID:3759-1751479200-1751490000@suburbanswim.club
SUMMARY:Skyline-Crestmoor
DESCRIPTION:Blue Division Dual Meet: Meet 7
URL:https://suburbanswim.club/meet/skyline-crestmoor/
LOCATION:Skyline Swim Club\, 2901 Skyline Dr\, Wilmington\, DE\, 19808\, United States
CATEGORIES:Dual Meet
END:VEVENT
BEGIN:VEVENT
DTSTART;TZID=America/New_York:20250630T180000
DTEND;TZID=America/New_York:20250630T210000
DTSTAMP:20260423T174019
CREATED:20250508T204726Z
LAST-MODIFIED:20250508T204726Z
UID:3757-1751306400-1751317200@suburbanswim.club
SUMMARY:Sherwood Park-Penn Acres
DESCRIPTION:Blue Division Dual Meet: Meet 6
URL:https://suburbanswim.club/meet/sherwood-park-penn-acres-2/
LOCATION:Sherwood Park Swim Club\, 1105 Highgate Rd\, Wilmington\, 19808\, United States
CATEGORIES:Dual Meet
END:VEVENT
BEGIN:VEVENT
DTSTART;TZID=America/New_York:20250630T180000
DTEND;TZID=America/New_York:20250630T210000
DTSTAMP:20260423T174019
CREATED:20250508T204726Z
LAST-MODIFIED:20250508T204726Z
UID:3758-1751306400-1751317200@suburbanswim.club
SUMMARY:Crestmoor-Arundel
DESCRIPTION:Blue Division Dual Meet: Meet 6
URL:https://suburbanswim.club/meet/crestmoor-arundel-2/
LOCATION:Crestmoor Swim Club\, 640 W Summit Ave\, Wilmington\, 19804\, United States
CATEGORIES:Dual Meet
END:VEVENT
BEGIN:VEVENT
DTSTART;TZID=America/New_York:20250630T180000
DTEND;TZID=America/New_York:20250630T210000
DTSTAMP:20260423T174019
CREATED:20250508T204726Z
LAST-MODIFIED:20250508T204726Z
UID:3756-1751306400-1751317200@suburbanswim.club
SUMMARY:Persimmon Creek-Fairfield
DESCRIPTION:Blue Division Dual Meet: Meet 6
URL:https://suburbanswim.club/meet/persimmon-creek-fairfield-2/
LOCATION:Persimmon Creek Swim Club\, 428 Arbour Dr\, Newark\, 19713\, United States
CATEGORIES:Dual Meet
END:VEVENT
BEGIN:VEVENT
DTSTART;TZID=America/New_York:20250630T180000
DTEND;TZID=America/New_York:20250630T210000
DTSTAMP:20260423T174019
CREATED:20250508T204725Z
LAST-MODIFIED:20250508T204725Z
UID:3755-1751306400-1751317200@suburbanswim.club
SUMMARY:Skyline-Maple Valley
DESCRIPTION:Blue Division Dual Meet: Meet 6
URL:https://suburbanswim.club/meet/skyline-maple-valley/
LOCATION:Skyline Swim Club\, 2901 Skyline Dr\, Wilmington\, DE\, 19808\, United States
CATEGORIES:Dual Meet
END:VEVENT
BEGIN:VEVENT
DTSTART;TZID=America/New_York:20250628T090000
DTEND;TZID=America/New_York:20250628T120000
DTSTAMP:20260423T174019
CREATED:20250508T204712Z
LAST-MODIFIED:20250508T204712Z
UID:3752-1751101200-1751112000@suburbanswim.club
SUMMARY:Crestmoor-Fairfield
DESCRIPTION:Blue Division Dual Meet: Meet 5
URL:https://suburbanswim.club/meet/crestmoor-fairfield/
LOCATION:Crestmoor Swim Club\, 640 W Summit Ave\, Wilmington\, 19804\, United States
CATEGORIES:Dual Meet
END:VEVENT
BEGIN:VEVENT
DTSTART;TZID=America/New_York:20250628T090000
DTEND;TZID=America/New_York:20250628T120000
DTSTAMP:20260423T174019
CREATED:20250508T204712Z
LAST-MODIFIED:20250508T204712Z
UID:3753-1751101200-1751112000@suburbanswim.club
SUMMARY:Arundel-Sherwood Park
DESCRIPTION:Blue Division Dual Meet: Meet 5
URL:https://suburbanswim.club/meet/arundel-sherwood-park-2/
LOCATION:Arundel Swim Club\, 1279 Elderon Drive\, Wilmington\, 19808\, United States
CATEGORIES:Dual Meet
END:VEVENT
BEGIN:VEVENT
DTSTART;TZID=America/New_York:20250628T090000
DTEND;TZID=America/New_York:20250628T120000
DTSTAMP:20260423T174019
CREATED:20250508T204712Z
LAST-MODIFIED:20250508T204712Z
UID:3754-1751101200-1751112000@suburbanswim.club
SUMMARY:Maple Valley-Oakwood Valley
DESCRIPTION:Blue Division Dual Meet: Meet 5
URL:https://suburbanswim.club/meet/maple-valley-oakwood-valley-2/
LOCATION:Maple Valley Swim Club\, Old Possum Park Road\, Newark\, 19711\, United States
CATEGORIES:Dual Meet
END:VEVENT
BEGIN:VEVENT
DTSTART;TZID=America/New_York:20250628T090000
DTEND;TZID=America/New_York:20250628T120000
DTSTAMP:20260423T174019
CREATED:20250508T204711Z
LAST-MODIFIED:20250508T204711Z
UID:3750-1751101200-1751112000@suburbanswim.club
SUMMARY:Drummond Hill-Yorklyn
DESCRIPTION:Red Division Dual Meet: Meet 5
URL:https://suburbanswim.club/meet/drummond-hill-yorklyn/
LOCATION:Drummond Hill Swim Club\, 79 Alton Road\, Newark\, 19711\, United States
CATEGORIES:Dual Meet
END:VEVENT
BEGIN:VEVENT
DTSTART;TZID=America/New_York:20250628T090000
DTEND;TZID=America/New_York:20250628T120000
DTSTAMP:20260423T174019
CREATED:20250508T204711Z
LAST-MODIFIED:20250508T204711Z
UID:3751-1751101200-1751112000@suburbanswim.club
SUMMARY:Penn Acres-Persimmon Creek
DESCRIPTION:Blue Division Dual Meet: Meet 5
URL:https://suburbanswim.club/meet/penn-acres-persimmon-creek-2/
LOCATION:Penn Acres Swim Club\, 30 Fithian Dr\, Wilmington Manor\, 19720\, United States
CATEGORIES:Dual Meet
END:VEVENT
BEGIN:VEVENT
DTSTART;TZID=America/New_York:20250628T090000
DTEND;TZID=America/New_York:20250628T120000
DTSTAMP:20260423T174019
CREATED:20250508T204638Z
LAST-MODIFIED:20250508T204638Z
UID:3749-1751101200-1751112000@suburbanswim.club
SUMMARY:Westminster-North Star
DESCRIPTION:Red Division Dual Meet: Meet 5
URL:https://suburbanswim.club/meet/westminster-north-star-2/
LOCATION:Westminster Swim Club\, 3200 Heritage Dr\, Wilmington\, 19808\, United States
CATEGORIES:Dual Meet
END:VEVENT
BEGIN:VEVENT
DTSTART;TZID=America/New_York:20250628T090000
DTEND;TZID=America/New_York:20250628T120000
DTSTAMP:20260423T174019
CREATED:20250508T204637Z
LAST-MODIFIED:20250508T204637Z
UID:3747-1751101200-1751112000@suburbanswim.club
SUMMARY:Western Y-Oaklands
DESCRIPTION:Red Division Dual Meet: Meet 5
URL:https://suburbanswim.club/meet/western-y-oaklands-2/
LOCATION:Western Family YMCA\, 2600 Capitol Trail\, Newark\, DE\, 19711\, United States
CATEGORIES:Dual Meet
END:VEVENT
BEGIN:VEVENT
DTSTART;TZID=America/New_York:20250628T090000
DTEND;TZID=America/New_York:20250628T120000
DTSTAMP:20260423T174019
CREATED:20250508T204637Z
LAST-MODIFIED:20250508T204637Z
UID:3748-1751101200-1751112000@suburbanswim.club
SUMMARY:Wedgewood-Nottingham
DESCRIPTION:Red Division Dual Meet: Meet 5
URL:https://suburbanswim.club/meet/wedgewood-nottingham/
LOCATION:Wedgewood Swim Club\, 2A Wedgefield Dr\, New Castle\, DE\, 19720\, United States
CATEGORIES:Dual Meet
END:VEVENT
BEGIN:VEVENT
DTSTART;TZID=America/New_York:20250625T180000
DTEND;TZID=America/New_York:20250625T210000
DTSTAMP:20260423T174019
CREATED:20250508T204637Z
LAST-MODIFIED:20250508T204637Z
UID:3746-1750874400-1750885200@suburbanswim.club
SUMMARY:Maple Valley-Arundel
DESCRIPTION:Blue Division Dual Meet: Meet 4
URL:https://suburbanswim.club/meet/maple-valley-arundel-3/
LOCATION:Maple Valley Swim Club\, Old Possum Park Road\, Newark\, 19711\, United States
CATEGORIES:Dual Meet
END:VEVENT
BEGIN:VEVENT
DTSTART;TZID=America/New_York:20250625T180000
DTEND;TZID=America/New_York:20250625T210000
DTSTAMP:20260423T174019
CREATED:20250508T204636Z
LAST-MODIFIED:20250508T204636Z
UID:3745-1750874400-1750885200@suburbanswim.club
SUMMARY:Penn Acres-Crestmoor
DESCRIPTION:Blue Division Dual Meet: Meet 4
URL:https://suburbanswim.club/meet/penn-acres-crestmoor-2/
LOCATION:Penn Acres Swim Club\, 30 Fithian Dr\, Wilmington Manor\, 19720\, United States
CATEGORIES:Dual Meet
END:VEVENT
BEGIN:VEVENT
DTSTART;TZID=America/New_York:20250625T180000
DTEND;TZID=America/New_York:20250625T210000
DTSTAMP:20260423T174019
CREATED:20250508T204622Z
LAST-MODIFIED:20250508T204622Z
UID:3742-1750874400-1750885200@suburbanswim.club
SUMMARY:North Star-Oaklands
DESCRIPTION:Red Division Dual Meet: Meet 4
URL:https://suburbanswim.club/meet/north-star-oaklands-2/
LOCATION:North Star Swim Club\, 100 Saturn Dr\, Newark\, DE\, 19711\, United States
CATEGORIES:Dual Meet
END:VEVENT
BEGIN:VEVENT
DTSTART;TZID=America/New_York:20250625T180000
DTEND;TZID=America/New_York:20250625T210000
DTSTAMP:20260423T174019
CREATED:20250508T204622Z
LAST-MODIFIED:20250508T204622Z
UID:3743-1750874400-1750885200@suburbanswim.club
SUMMARY:Skyline-Oakwood Valley
DESCRIPTION:Blue Division Dual Meet: Meet 4
URL:https://suburbanswim.club/meet/skyline-oakwood-valley/
LOCATION:Skyline Swim Club\, 2901 Skyline Dr\, Wilmington\, DE\, 19808\, United States
CATEGORIES:Dual Meet
END:VEVENT
BEGIN:VEVENT
DTSTART;TZID=America/New_York:20250625T180000
DTEND;TZID=America/New_York:20250625T210000
DTSTAMP:20260423T174019
CREATED:20250508T204622Z
LAST-MODIFIED:20250508T204622Z
UID:3744-1750874400-1750885200@suburbanswim.club
SUMMARY:Sherwood Park-Fairfield
DESCRIPTION:Blue Division Dual Meet: Meet 4
URL:https://suburbanswim.club/meet/sherwood-park-fairfield-2/
LOCATION:Sherwood Park Swim Club\, 1105 Highgate Rd\, Wilmington\, 19808\, United States
CATEGORIES:Dual Meet
END:VEVENT
BEGIN:VEVENT
DTSTART;TZID=America/New_York:20250625T180000
DTEND;TZID=America/New_York:20250625T210000
DTSTAMP:20260423T174019
CREATED:20250508T204621Z
LAST-MODIFIED:20250508T204621Z
UID:3741-1750874400-1750885200@suburbanswim.club
SUMMARY:Nottingham-Yorklyn
DESCRIPTION:Red Division Dual Meet: Meet 4
URL:https://suburbanswim.club/meet/nottingham-yorklyn/
LOCATION:Nottingham Swim Club\, 200 Radcliffe Dr\, Newark\, DE\, 19711\, United States
CATEGORIES:Dual Meet
END:VEVENT
BEGIN:VEVENT
DTSTART;TZID=America/New_York:20250625T180000
DTEND;TZID=America/New_York:20250625T210000
DTSTAMP:20260423T174019
CREATED:20250508T204621Z
LAST-MODIFIED:20250508T204621Z
UID:3740-1750874400-1750885200@suburbanswim.club
SUMMARY:Wedgewood-Drummond Hill
DESCRIPTION:Red Division Dual Meet: Meet 4
URL:https://suburbanswim.club/meet/wedgewood-drummond-hill/
LOCATION:Wedgewood Swim Club\, 2A Wedgefield Dr\, New Castle\, DE\, 19720\, United States
CATEGORIES:Dual Meet
END:VEVENT
BEGIN:VEVENT
DTSTART;TZID=America/New_York:20250625T180000
DTEND;TZID=America/New_York:20250625T210000
DTSTAMP:20260423T174019
CREATED:20250508T204551Z
LAST-MODIFIED:20250523T023630Z
UID:3739-1750874400-1750885200@suburbanswim.club
SUMMARY:Westminster-Western Y
DESCRIPTION:Red Division Dual Meet: Meet 4
URL:https://suburbanswim.club/meet/western-y-westminster-2/
LOCATION:Western Family YMCA\, 2600 Capitol Trail\, Newark\, DE\, 19711\, United States
CATEGORIES:Dual Meet
END:VEVENT
BEGIN:VEVENT
DTSTART;TZID=America/New_York:20250621T090000
DTEND;TZID=America/New_York:20250621T120000
DTSTAMP:20260423T174019
CREATED:20250508T204551Z
LAST-MODIFIED:20250508T204551Z
UID:3736-1750496400-1750507200@suburbanswim.club
SUMMARY:Persimmon Creek-Oakwood Valley
DESCRIPTION:Blue Division Dual Meet: Meet 3
URL:https://suburbanswim.club/meet/persimmon-creek-oakwood-valley-2/
LOCATION:Persimmon Creek Swim Club\, 428 Arbour Dr\, Newark\, 19713\, United States
CATEGORIES:Dual Meet
END:VEVENT
BEGIN:VEVENT
DTSTART;TZID=America/New_York:20250621T090000
DTEND;TZID=America/New_York:20250621T120000
DTSTAMP:20260423T174019
CREATED:20250508T204551Z
LAST-MODIFIED:20250508T204551Z
UID:3737-1750496400-1750507200@suburbanswim.club
SUMMARY:Fairfield-Arundel
DESCRIPTION:Blue Division Dual Meet: Meet 3
URL:https://suburbanswim.club/meet/fairfield-arundel-2/
LOCATION:Fairfield Crest Swim Club\, 1 Fremont Road\, Newark\, 19711\, United States
CATEGORIES:Dual Meet
END:VEVENT
END:VCALENDAR