BEGIN:VCALENDAR
VERSION:2.0
PRODID:-//Suburban Swim League - ECPv6.15.20//NONSGML v1.0//EN
CALSCALE:GREGORIAN
METHOD:PUBLISH
X-WR-CALNAME:Suburban Swim League
X-ORIGINAL-URL:https://suburbanswim.club
X-WR-CALDESC:Events for Suburban Swim League
REFRESH-INTERVAL;VALUE=DURATION:PT1H
X-Robots-Tag:noindex
X-PUBLISHED-TTL:PT1H
BEGIN:VTIMEZONE
TZID:America/New_York
BEGIN:DAYLIGHT
TZOFFSETFROM:-0500
TZOFFSETTO:-0400
TZNAME:EDT
DTSTART:20220313T070000
END:DAYLIGHT
BEGIN:STANDARD
TZOFFSETFROM:-0400
TZOFFSETTO:-0500
TZNAME:EST
DTSTART:20221106T060000
END:STANDARD
BEGIN:DAYLIGHT
TZOFFSETFROM:-0500
TZOFFSETTO:-0400
TZNAME:EDT
DTSTART:20230312T070000
END:DAYLIGHT
BEGIN:STANDARD
TZOFFSETFROM:-0400
TZOFFSETTO:-0500
TZNAME:EST
DTSTART:20231105T060000
END:STANDARD
BEGIN:DAYLIGHT
TZOFFSETFROM:-0500
TZOFFSETTO:-0400
TZNAME:EDT
DTSTART:20240310T070000
END:DAYLIGHT
BEGIN:STANDARD
TZOFFSETFROM:-0400
TZOFFSETTO:-0500
TZNAME:EST
DTSTART:20241103T060000
END:STANDARD
BEGIN:DAYLIGHT
TZOFFSETFROM:-0500
TZOFFSETTO:-0400
TZNAME:EDT
DTSTART:20250309T070000
END:DAYLIGHT
BEGIN:STANDARD
TZOFFSETFROM:-0400
TZOFFSETTO:-0500
TZNAME:EST
DTSTART:20251102T060000
END:STANDARD
END:VTIMEZONE
BEGIN:VEVENT
DTSTART;TZID=America/New_York:20240615T090000
DTEND;TZID=America/New_York:20240615T120000
DTSTAMP:20260424T071116
CREATED:20240509T031205Z
LAST-MODIFIED:20240510T042931Z
UID:3052-1718442000-1718452800@suburbanswim.club
SUMMARY:Fairfield-Oakwood Valley
DESCRIPTION:Blue Division Dual Meet: Meet 1
URL:https://suburbanswim.club/meet/fairfield-oakwood-valley/
LOCATION:Fairfield Crest Swim Club\, 1 Fremont Road\, Newark\, 19711\, United States
CATEGORIES:Dual Meet
END:VEVENT
BEGIN:VEVENT
DTSTART;TZID=America/New_York:20240615T090000
DTEND;TZID=America/New_York:20240615T120000
DTSTAMP:20260424T071116
CREATED:20240509T031205Z
LAST-MODIFIED:20240510T042931Z
UID:3053-1718442000-1718452800@suburbanswim.club
SUMMARY:Arundel-Crestmoor
DESCRIPTION:Blue Division Dual Meet: Meet 1
URL:https://suburbanswim.club/meet/arundel-crestmoor/
LOCATION:Arundel Swim Club\, 1279 Elderon Drive\, Wilmington\, 19808\, United States
CATEGORIES:Dual Meet
END:VEVENT
BEGIN:VEVENT
DTSTART;TZID=America/New_York:20240615T090000
DTEND;TZID=America/New_York:20240615T120000
DTSTAMP:20260424T071116
CREATED:20240509T031150Z
LAST-MODIFIED:20240510T042916Z
UID:3050-1718442000-1718452800@suburbanswim.club
SUMMARY:Skyline-Penn Acres
DESCRIPTION:Blue Division Dual Meet: Meet 1
URL:https://suburbanswim.club/meet/skyline-penn-acres/
LOCATION:Skyline Swim Club\, 2901 Skyline Dr\, Wilmington\, DE\, 19808\, United States
CATEGORIES:Dual Meet
END:VEVENT
BEGIN:VEVENT
DTSTART;TZID=America/New_York:20240615T090000
DTEND;TZID=America/New_York:20240615T120000
DTSTAMP:20260424T071116
CREATED:20240509T031150Z
LAST-MODIFIED:20240510T042916Z
UID:3049-1718442000-1718452800@suburbanswim.club
SUMMARY:Oaklands-Yorklyn
DESCRIPTION:Red Division Dual Meet: Meet 1
URL:https://suburbanswim.club/meet/oaklands-yorklyn/
LOCATION:Oaklands Swim Club\, 301 Hillside Rd\, Newark\, 19717\, United States
CATEGORIES:Dual Meet
END:VEVENT
BEGIN:VEVENT
DTSTART;TZID=America/New_York:20240615T090000
DTEND;TZID=America/New_York:20240615T120000
DTSTAMP:20260424T071116
CREATED:20240509T031149Z
LAST-MODIFIED:20240510T042915Z
UID:3046-1718442000-1718452800@suburbanswim.club
SUMMARY:Western Y-Nottingham Green
DESCRIPTION:Red Division Dual Meet: Meet 1
URL:https://suburbanswim.club/meet/western-y-nottingham-green/
LOCATION:Western Family YMCA\, 2600 Capitol Trail\, Newark\, DE\, 19711\, United States
CATEGORIES:Dual Meet
END:VEVENT
BEGIN:VEVENT
DTSTART;TZID=America/New_York:20240615T090000
DTEND;TZID=America/New_York:20240615T120000
DTSTAMP:20260424T071116
CREATED:20240509T031149Z
LAST-MODIFIED:20240510T042916Z
UID:3047-1718442000-1718452800@suburbanswim.club
SUMMARY:Drummond Hill-Wedgewood
DESCRIPTION:Red Division Dual Meet: Meet 1
URL:https://suburbanswim.club/meet/drummond-hill-wedgewood/
LOCATION:Drummond Hill Swim Club\, 79 Alton Road\, Newark\, 19711\, United States
CATEGORIES:Dual Meet
END:VEVENT
BEGIN:VEVENT
DTSTART;TZID=America/New_York:20240615T090000
DTEND;TZID=America/New_York:20240615T120000
DTSTAMP:20260424T071116
CREATED:20240509T031149Z
LAST-MODIFIED:20240510T042916Z
UID:3048-1718442000-1718452800@suburbanswim.club
SUMMARY:North Star-Westminster
DESCRIPTION:Red Division Dual Meet: Meet 1
URL:https://suburbanswim.club/meet/north-star-westminster/
LOCATION:North Star Swim Club\, 100 Saturn Dr\, Newark\, DE\, 19711\, United States
CATEGORIES:Dual Meet
END:VEVENT
BEGIN:VEVENT
DTSTART;TZID=America/New_York:20230715T090000
DTEND;TZID=America/New_York:20230715T120000
DTSTAMP:20260424T071116
CREATED:20230516T225844Z
LAST-MODIFIED:20230516T230721Z
UID:962-1689411600-1689422400@suburbanswim.club
SUMMARY:Arundel-Sherwood Park
DESCRIPTION:Blue Division Dual Meet: Meet 8
URL:https://suburbanswim.club/meet/arundel-sherwood-park/
LOCATION:Arundel Swim Club\, 1279 Elderon Drive\, Wilmington\, 19808\, United States
CATEGORIES:Dual Meet
END:VEVENT
BEGIN:VEVENT
DTSTART;TZID=America/New_York:20230715T090000
DTEND;TZID=America/New_York:20230715T120000
DTSTAMP:20260424T071116
CREATED:20230516T225844Z
LAST-MODIFIED:20230516T230721Z
UID:963-1689411600-1689422400@suburbanswim.club
SUMMARY:Oakwood Valley-Crestmoor
DESCRIPTION:Blue Division Dual Meet: Meet 8
URL:https://suburbanswim.club/meet/oakwood-valley-crestmoor/
LOCATION:Oakwood Valley Club\, 4909 Kirkwood Hwy\, Wilmington\, 19808\, United States
CATEGORIES:Dual Meet
END:VEVENT
BEGIN:VEVENT
DTSTART;TZID=America/New_York:20230715T090000
DTEND;TZID=America/New_York:20230715T120000
DTSTAMP:20260424T071116
CREATED:20230516T225843Z
LAST-MODIFIED:20230516T230720Z
UID:960-1689411600-1689422400@suburbanswim.club
SUMMARY:Persimmon Creek-Drummond Hill
DESCRIPTION:Blue Division Dual Meet: Meet 8
URL:https://suburbanswim.club/meet/persimmon-creek-drummond-hill/
LOCATION:Persimmon Creek Swim Club\, 428 Arbour Dr\, Newark\, 19713\, United States
CATEGORIES:Dual Meet
END:VEVENT
BEGIN:VEVENT
DTSTART;TZID=America/New_York:20230715T090000
DTEND;TZID=America/New_York:20230715T120000
DTSTAMP:20260424T071116
CREATED:20230516T225843Z
LAST-MODIFIED:20230516T230721Z
UID:961-1689411600-1689422400@suburbanswim.club
SUMMARY:Fairfield-Maple Valley
DESCRIPTION:Blue Division Dual Meet: Meet 8
URL:https://suburbanswim.club/meet/fairfield-maple-valley/
LOCATION:Fairfield Crest Swim Club\, 1 Fremont Road\, Newark\, 19711\, United States
CATEGORIES:Dual Meet
END:VEVENT
BEGIN:VEVENT
DTSTART;TZID=America/New_York:20230715T090000
DTEND;TZID=America/New_York:20230715T120000
DTSTAMP:20260424T071116
CREATED:20230516T225836Z
LAST-MODIFIED:20240324T220003Z
UID:957-1689411600-1689422400@suburbanswim.club
SUMMARY:Oaklands-Nottingham Green
DESCRIPTION:Red Division Dual Meet: Meet 8
URL:https://suburbanswim.club/meet/oaklands-nottingham-green/
LOCATION:Oaklands Swim Club\, 301 Hillside Rd\, Newark\, 19717\, United States
CATEGORIES:Dual Meet
END:VEVENT
BEGIN:VEVENT
DTSTART;TZID=America/New_York:20230715T090000
DTEND;TZID=America/New_York:20230715T120000
DTSTAMP:20260424T071116
CREATED:20230516T225836Z
LAST-MODIFIED:20230516T230705Z
UID:958-1689411600-1689422400@suburbanswim.club
SUMMARY:North Star-Yorklyn
DESCRIPTION:Red Division Dual Meet: Meet 8
URL:https://suburbanswim.club/meet/north-star-yorklyn/
LOCATION:North Star Swim Club\, 100 Saturn Dr\, Newark\, DE\, 19711\, United States
CATEGORIES:Dual Meet
END:VEVENT
BEGIN:VEVENT
DTSTART;TZID=America/New_York:20230715T090000
DTEND;TZID=America/New_York:20230715T120000
DTSTAMP:20260424T071116
CREATED:20230516T225836Z
LAST-MODIFIED:20230516T230706Z
UID:959-1689411600-1689422400@suburbanswim.club
SUMMARY:Westminster-Skyline
DESCRIPTION:Red Division Dual Meet: Meet 8
URL:https://suburbanswim.club/meet/westminster-skyline/
LOCATION:Westminster Swim Club\, 3200 Heritage Dr\, Wilmington\, 19808\, United States
CATEGORIES:Dual Meet
END:VEVENT
BEGIN:VEVENT
DTSTART;TZID=America/New_York:20230715T090000
DTEND;TZID=America/New_York:20230715T120000
DTSTAMP:20260424T071116
CREATED:20230516T225835Z
LAST-MODIFIED:20230516T230705Z
UID:956-1689411600-1689422400@suburbanswim.club
SUMMARY:Western Y-Wedgewood
DESCRIPTION:Red Division Dual Meet: Meet 8
URL:https://suburbanswim.club/meet/western-y-wedgewood/
LOCATION:Western Family YMCA\, 2600 Capitol Trail\, Newark\, DE\, 19711\, United States
CATEGORIES:Dual Meet
END:VEVENT
BEGIN:VEVENT
DTSTART;TZID=America/New_York:20230712T180000
DTEND;TZID=America/New_York:20230712T210000
DTSTAMP:20260424T071116
CREATED:20230516T225835Z
LAST-MODIFIED:20230516T230704Z
UID:955-1689184800-1689195600@suburbanswim.club
SUMMARY:Maple Valley-Arundel
DESCRIPTION:Blue Division Dual Meet: Meet 7
URL:https://suburbanswim.club/meet/maple-valley-arundel/
LOCATION:Maple Valley Swim Club\, Old Possum Park Road\, Newark\, 19711\, United States
CATEGORIES:Dual Meet
END:VEVENT
BEGIN:VEVENT
DTSTART;TZID=America/New_York:20230712T180000
DTEND;TZID=America/New_York:20230712T210000
DTSTAMP:20260424T071116
CREATED:20230516T225829Z
LAST-MODIFIED:20230516T230603Z
UID:952-1689184800-1689195600@suburbanswim.club
SUMMARY:Drummond Hill-Crestmoor
DESCRIPTION:Blue Division Dual Meet: Meet 7
URL:https://suburbanswim.club/meet/drummond-hill-crestmoor/
LOCATION:Drummond Hill Swim Club\, 79 Alton Road\, Newark\, 19711\, United States
CATEGORIES:Dual Meet
END:VEVENT
BEGIN:VEVENT
DTSTART;TZID=America/New_York:20230712T180000
DTEND;TZID=America/New_York:20230712T210000
DTSTAMP:20260424T071116
CREATED:20230516T225829Z
LAST-MODIFIED:20230516T230603Z
UID:953-1689184800-1689195600@suburbanswim.club
SUMMARY:Penn Acres-Persimmon Creek
DESCRIPTION:Blue Division Dual Meet: Meet 7
URL:https://suburbanswim.club/meet/penn-acres-persimmon-creek/
LOCATION:Penn Acres Swim Club\, 30 Fithian Dr\, Wilmington Manor\, 19720\, United States
CATEGORIES:Dual Meet
END:VEVENT
BEGIN:VEVENT
DTSTART;TZID=America/New_York:20230712T180000
DTEND;TZID=America/New_York:20230712T210000
DTSTAMP:20260424T071116
CREATED:20230516T225829Z
LAST-MODIFIED:20230516T230603Z
UID:954-1689184800-1689195600@suburbanswim.club
SUMMARY:Sherwood Park-Fairfield
DESCRIPTION:Blue Division Dual Meet: Meet 7
URL:https://suburbanswim.club/meet/sherwood-park-fairfield/
LOCATION:Sherwood Park Swim Club\, 1105 Highgate Rd\, Wilmington\, 19808\, United States
CATEGORIES:Dual Meet
END:VEVENT
BEGIN:VEVENT
DTSTART;TZID=America/New_York:20230712T180000
DTEND;TZID=America/New_York:20230712T210000
DTSTAMP:20260424T071116
CREATED:20230516T225828Z
LAST-MODIFIED:20230516T230603Z
UID:950-1689184800-1689195600@suburbanswim.club
SUMMARY:North Star-Nottingham Green
DESCRIPTION:Red Division Dual Meet: Meet 7
URL:https://suburbanswim.club/meet/north-star-nottingham-green/
LOCATION:North Star Swim Club\, 100 Saturn Dr\, Newark\, DE\, 19711\, United States
CATEGORIES:Dual Meet
END:VEVENT
BEGIN:VEVENT
DTSTART;TZID=America/New_York:20230712T180000
DTEND;TZID=America/New_York:20230712T210000
DTSTAMP:20260424T071116
CREATED:20230516T225828Z
LAST-MODIFIED:20230516T230603Z
UID:951-1689184800-1689195600@suburbanswim.club
SUMMARY:Yorklyn-Westminster
DESCRIPTION:Red Division Dual Meet: Meet 7
URL:https://suburbanswim.club/meet/yorklyn-westminster/
LOCATION:Yorklyn Swim Club\, 389 Lower Snuff Mill Road\, Hockessin\, 19707\, United States
CATEGORIES:Dual Meet
END:VEVENT
BEGIN:VEVENT
DTSTART;TZID=America/New_York:20230712T180000
DTEND;TZID=America/New_York:20230712T210000
DTSTAMP:20260424T071116
CREATED:20230516T225810Z
LAST-MODIFIED:20230516T230548Z
UID:948-1689184800-1689195600@suburbanswim.club
SUMMARY:Western Y-Oaklands
DESCRIPTION:Red Division Dual Meet: Meet 7
URL:https://suburbanswim.club/meet/western-y-oaklands/
LOCATION:Western Family YMCA\, 2600 Capitol Trail\, Newark\, DE\, 19711\, United States
CATEGORIES:Dual Meet
END:VEVENT
BEGIN:VEVENT
DTSTART;TZID=America/New_York:20230712T180000
DTEND;TZID=America/New_York:20230712T210000
DTSTAMP:20260424T071116
CREATED:20230516T225810Z
LAST-MODIFIED:20230516T230549Z
UID:949-1689184800-1689195600@suburbanswim.club
SUMMARY:Wedgewood-Skyline
DESCRIPTION:Red Division Dual Meet: Meet 7
URL:https://suburbanswim.club/meet/wedgewood-skyline/
LOCATION:Wedgewood Swim Club\, 2A Wedgefield Dr\, New Castle\, DE\, 19720\, United States
CATEGORIES:Dual Meet
END:VEVENT
BEGIN:VEVENT
DTSTART;TZID=America/New_York:20230708T090000
DTEND;TZID=America/New_York:20230708T120000
DTSTAMP:20260424T071116
CREATED:20230516T225810Z
LAST-MODIFIED:20230516T230548Z
UID:946-1688806800-1688817600@suburbanswim.club
SUMMARY:Fairfield-Penn Acres
DESCRIPTION:Blue Division Dual Meet: Meet 6
URL:https://suburbanswim.club/meet/fairfield-penn-acres/
LOCATION:Fairfield Crest Swim Club\, 1 Fremont Road\, Newark\, 19711\, United States
CATEGORIES:Dual Meet
END:VEVENT
BEGIN:VEVENT
DTSTART;TZID=America/New_York:20230708T090000
DTEND;TZID=America/New_York:20230708T120000
DTSTAMP:20260424T071116
CREATED:20230516T225810Z
LAST-MODIFIED:20230516T230548Z
UID:947-1688806800-1688817600@suburbanswim.club
SUMMARY:Maple Valley-Oakwood Valley
DESCRIPTION:Blue Division Dual Meet: Meet 6
URL:https://suburbanswim.club/meet/maple-valley-oakwood-valley/
LOCATION:Maple Valley Swim Club\, Old Possum Park Road\, Newark\, 19711\, United States
CATEGORIES:Dual Meet
END:VEVENT
BEGIN:VEVENT
DTSTART;TZID=America/New_York:20230708T090000
DTEND;TZID=America/New_York:20230708T120000
DTSTAMP:20260424T071116
CREATED:20230516T225809Z
LAST-MODIFIED:20230516T230548Z
UID:945-1688806800-1688817600@suburbanswim.club
SUMMARY:Crestmoor-Persimmon Creek
DESCRIPTION:Blue Division Dual Meet: Meet 6
URL:https://suburbanswim.club/meet/crestmoor-persimmon-creek/
LOCATION:Crestmoor Swim Club\, 640 W Summit Ave\, Wilmington\, 19804\, United States
CATEGORIES:Dual Meet
END:VEVENT
BEGIN:VEVENT
DTSTART;TZID=America/New_York:20230708T090000
DTEND;TZID=America/New_York:20230708T120000
DTSTAMP:20260424T071116
CREATED:20230516T225755Z
LAST-MODIFIED:20230516T230524Z
UID:944-1688806800-1688817600@suburbanswim.club
SUMMARY:Drummond Hill-Sherwood Park
DESCRIPTION:Blue Division Dual Meet: Meet 6
URL:https://suburbanswim.club/meet/drummond-hill-sherwood-park/
LOCATION:Drummond Hill Swim Club\, 79 Alton Road\, Newark\, 19711\, United States
CATEGORIES:Dual Meet
END:VEVENT
BEGIN:VEVENT
DTSTART;TZID=America/New_York:20230708T090000
DTEND;TZID=America/New_York:20230708T120000
DTSTAMP:20260424T071116
CREATED:20230516T225754Z
LAST-MODIFIED:20230516T230523Z
UID:941-1688806800-1688817600@suburbanswim.club
SUMMARY:Westminster-Wedgewood
DESCRIPTION:Red Division Dual Meet: Meet 6
URL:https://suburbanswim.club/meet/westminster-wedgewood/
LOCATION:Westminster Swim Club\, 3200 Heritage Dr\, Wilmington\, 19808\, United States
CATEGORIES:Dual Meet
END:VEVENT
BEGIN:VEVENT
DTSTART;TZID=America/New_York:20230708T090000
DTEND;TZID=America/New_York:20230708T120000
DTSTAMP:20260424T071116
CREATED:20230516T225754Z
LAST-MODIFIED:20230516T230523Z
UID:942-1688806800-1688817600@suburbanswim.club
SUMMARY:Skyline-North Star
DESCRIPTION:Red Division Dual Meet: Meet 6
URL:https://suburbanswim.club/meet/skyline-north-star/
LOCATION:Skyline Swim Club\, 2901 Skyline Dr\, Wilmington\, DE\, 19808\, United States
CATEGORIES:Dual Meet
END:VEVENT
BEGIN:VEVENT
DTSTART;TZID=America/New_York:20230708T090000
DTEND;TZID=America/New_York:20230708T120000
DTSTAMP:20260424T071116
CREATED:20230516T225754Z
LAST-MODIFIED:20230516T230523Z
UID:943-1688806800-1688817600@suburbanswim.club
SUMMARY:Yorklyn-Oaklands
DESCRIPTION:Red Division Dual Meet: Meet 6
URL:https://suburbanswim.club/meet/yorklyn-oaklands/
LOCATION:Yorklyn Swim Club\, 389 Lower Snuff Mill Road\, Hockessin\, 19707\, United States
CATEGORIES:Dual Meet
END:VEVENT
END:VCALENDAR